BEGIN:VCALENDAR
VERSION:2.0
PRODID:-//Joma - ECPv5.3.2//NONSGML v1.0//EN
CALSCALE:GREGORIAN
METHOD:PUBLISH
X-WR-CALNAME:Joma
X-ORIGINAL-URL:https://gestionempresarialjoma.es
X-WR-CALDESC:Eventos para Joma
BEGIN:VTIMEZONE
TZID:UTC
BEGIN:STANDARD
TZOFFSETFROM:+0000
TZOFFSETTO:+0000
TZNAME:UTC
DTSTART:20260101T000000
END:STANDARD
END:VTIMEZONE
BEGIN:VEVENT
DTSTART;VALUE=DATE:20260420
DTEND;VALUE=DATE:20260421
DTSTAMP:20260420T115333
CREATED:20260322T121059Z
LAST-MODIFIED:20260322T121403Z
UID:2000-1776643200-1776729599@gestionempresarialjoma.es
SUMMARY:Hasta el 20 abril
DESCRIPTION:Renta y Sociedades\nRetenciones e ingresos a cuenta de rendimientos del trabajo\, actividades económicas\, premios y determinadas ganancias patrimoniales e imputaciones de renta\, ganancias derivadas de acciones y participaciones de las Instituciones de Inversión Colectiva\, rentas de arrendamiento de inmuebles urbanos\, capital mobiliario\, personas autorizadas y saldos en cuentas y\, de rentas de no residentes obtenidas sin establecimiento permanente. \n\nMarzo 2026. Grandes empresas: 111\, 115\, 117\, 123\, 124\, 126\, 128\, 216\, 230\nPrimer trimestre 2026: 111\, 115\, 117\, 123\, 124\, 126\, 128\, 136\, 210\, 216\n\nPagos fraccionados Renta\n\nPrimer trimestre 2026:\n\nEstimación directa: 130\nEstimación objetiva: 131\n\n\n\nPagos fraccionados Sociedades y establecimientos permanentes de no residentes\n\nEjercicio en curso:\n\nRégimen general: 202\nRégimen de consolidación fiscal (grupos fiscales): 222\n\n\n\nIVA\n\nMarzo 2026. Declaración recapitulativa de operaciones intracomunitarias: 349\nPrimer trimestre 2026. Autoliquidación: 303\nPrimer trimestre 2026. Declaración-liquidación no periódica: 309\nPrimer trimestre 2026. Declaración recapitulativa de operaciones intracomunitarias: 349\nPrimer trimestre 2026. Operaciones asimiladas a las importaciones: 380\nSolicitud de devolución de cuotas reembolsadas a viajeros por empresarios en recargo de equivalencia: 308\nSolicitud de devolución por sujetos pasivos en el régimen simplificado del IVA y que ejerzan la actividad de transporte de viajeros o de mercancías por carretera\, por adquirir determinados medios de transporte: 308\nReintegro de compensaciones en el régimen especial de la agricultura\, ganadería y pesca: 341\n\nImpuesto sobre las Primas de Seguros\n\nMarzo 2026: 430\n\nImpuestos Especiales de Fabricación\n\nEnero 2026. Grandes empresas: 561\, 562\, 563\nMarzo 2026: 548\, 566\, 581\nMarzo 2026: 573 (Autoliquidación)\, A24 (Solicitud de devolución)\nPrimer trimestre 2026: 521\, 522\, 547\nPrimer trimestre 2026 Actividades V1\, F1: 553 (establecimientos autorizados para la llevanza de la contabilidad en soporte papel)\nPrimer trimestre 2026. Solicitudes de devolución: 506\, 507\, 508\, 524\, 572\nDeclaración de operaciones por los destinatarios registrados y representantes fiscales: 510\n\nImpuesto Especial sobre la Electricidad\n\nMarzo 2026. Grandes empresas: 560\nPrimer trimestre 2026. Excepto grandes empresas: 560\nAño 2025. Autoliquidación anual: 560\n\nImpuestos Medioambientales\n\nMarzo 2026. Impuesto especial sobre los envases de plástico no reutilizables. Autoliquidación: 592\nPrimer trimestre 2026. Impuesto sobre los gases fluorados de efecto invernadero. Autoliquidación: 587. Solicitud de devolución: A23. Presentación contabilidad de existencias\nPrimer trimestre 2026. Impuesto especial sobre los envases de plástico no reutilizables. Autoliquidación: 592. Solicitud de devolución: A22\nAño 2025. Impuesto sobre el Valor de la Extracción de Gas\, Petróleo y Condensados. Autoliquidación anual: 589\nAño 2026. Impuesto sobre el almacenamiento de combustible nuclear gastado y residuos radiactivos en instalaciones centralizadas. Primer pago fraccionado 585\n\nImpuesto Especial sobre el Carbón\n\nPrimer trimestre 2026: 595\n\nImpuesto sobre las Transacciones Financieras\n\nMarzo 2026: 604\n\nAportación a realizar por los prestadores del servicio de comunicación audiovisual televisivo y por los prestadores del servicio de intercambio de vídeos a través de plataforma de ámbito geográfico estatal o superior al de una Comunidad Autónoma\n\nPago a cuenta 1P 2026: 793
URL:https://gestionempresarialjoma.es/fecha/calendario-contribuyente-2026-hasta-20-abril
CATEGORIES:Asesoría fiscal
END:VEVENT
END:VCALENDAR