BEGIN:VCALENDAR
VERSION:2.0
PRODID:-//Joma - ECPv5.3.2//NONSGML v1.0//EN
CALSCALE:GREGORIAN
METHOD:PUBLISH
X-WR-CALNAME:Joma
X-ORIGINAL-URL:https://gestionempresarialjoma.es
X-WR-CALDESC:Eventos para Joma
BEGIN:VTIMEZONE
TZID:UTC
BEGIN:STANDARD
TZOFFSETFROM:+0000
TZOFFSETTO:+0000
TZNAME:UTC
DTSTART:20250101T000000
END:STANDARD
END:VTIMEZONE
BEGIN:VEVENT
DTSTART;VALUE=DATE:20250901
DTEND;VALUE=DATE:20250902
DTSTAMP:20260421T022433
CREATED:20250803T184049Z
LAST-MODIFIED:20250803T184237Z
UID:1954-1756684800-1756771199@gestionempresarialjoma.es
SUMMARY:Hasta el 1 de septiembre
DESCRIPTION:IVA\n\nJulio 2025. Autoliquidación: 303\nJulio 2025. Grupo de entidades\, modelo individual: 322\nJulio 2025. Grupo de entidades\, modelo agregado: 353\nJulio 2025. Operaciones asimiladas a las importaciones: 380
URL:https://gestionempresarialjoma.es/fecha/calendario-contribuyente-2025-hasta-uno-septiembre
CATEGORIES:Asesoría fiscal
END:VEVENT
BEGIN:VEVENT
DTSTART;VALUE=DATE:20250922
DTEND;VALUE=DATE:20250923
DTSTAMP:20260421T022433
CREATED:20250803T184325Z
LAST-MODIFIED:20250803T184500Z
UID:1956-1758499200-1758585599@gestionempresarialjoma.es
SUMMARY:Hasta el 22 de septiembre
DESCRIPTION:Renta y Sociedades\nRetenciones e ingresos a cuenta de rendimientos del trabajo\, actividades económicas\, premios y determinadas ganancias patrimoniales e imputaciones de renta\, ganancias derivadas de acciones y participaciones de las Instituciones de Inversión Colectiva\, rentas de arrendamiento de inmuebles urbanos\, capital mobiliario\, personas autorizadas y saldos en cuentas y\, de rentas de no residentes obtenidas sin establecimiento permanente. \n\nAgosto 2025. Grandes empresas: 111\, 115\, 117\, 123\, 124\, 126\, 128\, 216\, 230\n\nIVA\n\nJulio y agosto 2025. Declaración recapitulativa de operaciones intracomunitarias: 349\nSolicitud de devolución por sujetos pasivos en el régimen simplificado del IVA y que ejerzan la actividad de transporte de viajeros o de mercancías por carretera\, por adquirir determinados medios de transporte: 308\n\nImpuesto sobre las Primas de Seguros\n\nJulio y agosto 2025: 430\n\nImpuestos Especiales de Fabricación\n\nJunio 2025. Grandes empresas: 561\, 562\, 563\nAgosto 2025: 548\, 566\, 581\nAgosto 2025: 573 (Autoliquidación)\, A24 (Solicitud de devolución)\nDeclaración de operaciones por los destinatarios registrados y representantes fiscales: 510\n\nImpuesto Especial sobre la Electricidad\n\nAgosto 2025. Grandes empresas: 560\n\nImpuestos Medioambientales\n\nAgosto 2025. Impuesto especial sobre los envases de plástico no reutilizables. Autoliquidación: 592\nAño 2025. Impuesto sobre el valor de la producción de la energía eléctrica. Segundo pago fraccionado: 583\n\nImpuesto sobre las Transacciones Financieras\n\nAgosto 2025: 604\n\nImpuesto sobre el margen de intereses y comisiones de determinadas entidades financieras\n\nAño 2024: 780
URL:https://gestionempresarialjoma.es/fecha/calendario-contribuyente-2025-hasta-22-septiembre
CATEGORIES:Asesoría fiscal
END:VEVENT
BEGIN:VEVENT
DTSTART;VALUE=DATE:20250930
DTEND;VALUE=DATE:20251001
DTSTAMP:20260421T022433
CREATED:20250927T155831Z
LAST-MODIFIED:20250927T160441Z
UID:1969-1759190400-1759276799@gestionempresarialjoma.es
SUMMARY:Hasta el 30 de septiembre
DESCRIPTION:IVA\n\nAño 2024. Solicitud de devolución del IVA soportado: 360\,361\nAgosto 2025. Autoliquidación: 303\nAgosto 2025. Grupo de entidades\, modelo individual: 322\nAgosto 2025. Grupo de entidades\, modelo agregado: 353\nAgosto 2025. Ventanilla única – Régimen de importación: 369\nAgosto 2025. Operaciones asimiladas a las importaciones: 380\nPrimer trimestre 2025: solicitud de reembolso de las cuotas tributarias soportadas relativas a la Organización del Tratado del Atlántico Norte\, a los Cuarteles Generales Internacionales de dicha Organización y a los Estados parte en dicho Tratado: 364\nPrimer trimestre 2025: solicitud de reembolso de las cuotas tributarias soportadas por las fuerzas armadas de los Estados miembros de la UE: 381\n\nImpuestos Medioambientales\n\nJulio y agosto 2025. Impuesto especial sobre los envases de plástico no reutilizables. Presentación contabilidad y libro registro de existencias
URL:https://gestionempresarialjoma.es/fecha/calendario-contribuyente-2025-hasta-30-septiembre
CATEGORIES:Asesoría fiscal
END:VEVENT
END:VCALENDAR