BEGIN:VCALENDAR
VERSION:2.0
PRODID:-//Joma - ECPv5.3.2//NONSGML v1.0//EN
CALSCALE:GREGORIAN
METHOD:PUBLISH
X-WR-CALNAME:Joma
X-ORIGINAL-URL:https://gestionempresarialjoma.es
X-WR-CALDESC:Eventos para Joma
BEGIN:VTIMEZONE
TZID:UTC
BEGIN:STANDARD
TZOFFSETFROM:+0000
TZOFFSETTO:+0000
TZNAME:UTC
DTSTART:20250101T000000
END:STANDARD
END:VTIMEZONE
BEGIN:VEVENT
DTSTART;VALUE=DATE:20250721
DTEND;VALUE=DATE:20250722
DTSTAMP:20260421T061854
CREATED:20250720T181409Z
LAST-MODIFIED:20250720T181906Z
UID:1941-1753056000-1753142399@gestionempresarialjoma.es
SUMMARY:Hasta el 21 de julio
DESCRIPTION:Renta y Sociedades\nRetenciones e ingresos a cuenta de rendimientos del trabajo\, actividades económicas\, premios y determinadas ganancias patrimoniales e imputaciones de renta\, ganancias derivadas de acciones y participaciones de las Instituciones de Inversión Colectiva\, rentas de arrendamiento de inmuebles urbanos\, capital mobiliario\, personas autorizadas y saldos en cuentas y\, de rentas de no residentes obtenidas sin establecimiento permanente. \n\nJunio 2025. Grandes empresas: 111\, 115\, 117\, 123\, 124\, 126\, 128\, 216\, 230\nSegundo trimestre 2025: 111\, 115\, 117\, 123\, 124\, 126\, 128\, 136\, 210\, 216\n\nPagos fraccionados Renta\n\nSegundo trimestre 2025:\n\nEstimación directa: 130\nEstimación objetiva: 131\n\n\n\nIVA\n\nJunio 2025. Declaración recapitulativa de operaciones intracomunitarias: 349\nSegundo trimestre 2025. Autoliquidación: 303\nSegundo trimestre 2025. Declaración-liquidación no periódica: 309\nSegundo trimestre 2025. Declaración recapitulativa de operaciones intracomunitarias: 349\nSegundo trimestre 2025. Operaciones asimiladas a las importaciones: 380\nSolicitud de devolución de cuotas reembolsadas a viajeros por empresarios en recargo de equivalencia: 308\nSolicitud de devolución por sujetos pasivos en el régimen simplificado del IVA y que ejerzan la actividad de transporte de viajeros o de mercancías por carretera\, por adquirir determinados medios de transporte: 308\nReintegro de compensaciones en el Régimen especial de la agricultura\, ganadería y pesca: 341\n\nImpuesto sobre las Primas de Seguros\n\nJunio 2025: 430\n\nImpuestos Especiales de Fabricación\n\nAbril 2025. Grandes empresas: 561\, 562\, 563\nJunio 2025: 548\, 566\, 581\nJunio 2025: 573 (Autoliquidación)\, A24 (Solicitud de devolución)\nSegundo trimestre 2025: 521\, 522\, 547\nSegundo trimestre 2025. Actividades V1\, F1: 553 (establecimientos autorizados para la llevanza de la contabilidad en soporte papel)\nSegundo trimestre 2025. Solicitudes de devolución: 506\, 507\, 508\, 524\, 572\nDeclaración de operaciones por los destinatarios registrados y representantes fiscales: 510\n\nImpuesto Especial sobre la Electricidad\n\nJunio 2025. Grandes empresas: 560\nSegundo trimestre 2025. Excepto grandes empresas: 560\n\nImpuestos Medioambientales\n\nJunio 2025. Impuesto especial sobre los envases de plástico no reutilizables. Autoliquidación: 592\nSegundo trimestre 2025. Impuesto sobre los gases fluorados de efecto invernadero. Autoliquidación: 587. Solicitud de devolución: A23. Presentación contabilidad de existencias\nSegundo trimestre 2025. Impuesto especial sobre los envases de plástico no reutilizables. Autoliquidación: 592. Solicitud de devolución: A22\n Año 2025. Impuesto sobre el almacenamiento de combustible nuclear gastado y residuos radiactivos en instalaciones centralizadas. Segundo pago fraccionado 585\n\nImpuesto Especial sobre el Carbón\n\nSegundo trimestre 2025: 595\n\nImpuesto sobre las Transacciones Financieras\n\nJunio 2025: 604\n\nAportación a realizar por los prestadores del servicio de comunicación audiovisual televisivo y por los prestadores del servicio de intercambio de vídeos a través de plataforma de ámbito geográfico estatal o superior al de una Comunidad Autónoma\n\nPago a cuenta 2P 2025: 793
URL:https://gestionempresarialjoma.es/fecha/calendario-contribuyente-2025-hasta-21-julio
CATEGORIES:Asesoría fiscal
END:VEVENT
BEGIN:VEVENT
DTSTART;VALUE=DATE:20250725
DTEND;VALUE=DATE:20250726
DTSTAMP:20260421T061854
CREATED:20250720T180137Z
LAST-MODIFIED:20250720T182157Z
UID:1933-1753401600-1753487999@gestionempresarialjoma.es
SUMMARY:Hasta el 25 de julio
DESCRIPTION:Impuesto sobre Sociedades e Impuesto sobre la Renta de no Residentes (establecimientos permanentes y entidades de rentas constituidas en el extranjero con presencia en territorio español)\n\nDeclaración anual 2024. Entidades cuyo período impositivo coincida con el año natural: 200\, 206\, 220.Resto de entidades: en los 25 días naturales siguientes a los seis meses posteriores al fin del período impositivo.\n\nDeclaración de prestación patrimonial por conversión de activos por impuesto diferido en crédito exigible frente a la Administración Tributaria\n\nAño 2024. Entidades cuyo período impositivo coincida con el año natural: 221Resto de entidades: en los 25 días naturales siguientes a los seis meses posteriores al fin del período impositivo.\n\nDeclaración informativa anual de ayudas recibidas en el marco del régimen económico y fiscal de Canarias y otras ayudas de Estado por contribuyentes del Impuesto sobre Sociedades e Impuesto sobre la Renta de no residentes (establecimientos permanentes y entidades en atribución de rentas constituidas en el extranjero con presencia en territorio español)\n\nAño 2024. Entidades cuyo período impositivo coincida con el año natural: 282Resto de entidades: en los 25 días naturales siguientes a los seis meses posteriores al fin del período impositivo.\n\nDeclaración informativa anual de ayudas recibidas en el marco del Régimen fiscal especial de las Illes Balears por contribuyentes del Impuesto sobre Sociedades e Impuesto sobre la Renta de no residentes (establecimientos permanentes)\n\nAño 2024. Entidades cuyo período impositivo coincida con el año natural: 283Resto de entidades: en los 25 días naturales siguientes a los seis meses posteriores al fin del período impositivo.
URL:https://gestionempresarialjoma.es/fecha/calendario-contribuyente-2025-hasta-25-julio
CATEGORIES:Asesoría fiscal
END:VEVENT
BEGIN:VEVENT
DTSTART;VALUE=DATE:20250730
DTEND;VALUE=DATE:20250731
DTSTAMP:20260421T061854
CREATED:20250720T180222Z
LAST-MODIFIED:20250720T182039Z
UID:1936-1753833600-1753919999@gestionempresarialjoma.es
SUMMARY:Hasta el 30 de julio
DESCRIPTION:IVA\n\nJunio 2025. Autoliquidación: 303\nJunio 2025. Grupo de entidades\, modelo individual: 322\nJunio 2025. Grupo de entidades\, modelo agregado: 353\nJunio 2025. Operaciones asimiladas a las importaciones: 380\n\nImpuestos Medioambientales\n\nSegundo trimestre 2025. Impuesto sobre el depósito de residuos en vertederos\, la incineración y la coincineración de residuos. Autoliquidación: 593
URL:https://gestionempresarialjoma.es/fecha/calendario-contribuyente-2025-hasta-30-julio
CATEGORIES:Asesoría fiscal
END:VEVENT
BEGIN:VEVENT
DTSTART;VALUE=DATE:20250731
DTEND;VALUE=DATE:20250801
DTSTAMP:20260421T061854
CREATED:20250720T180437Z
LAST-MODIFIED:20250720T182109Z
UID:1938-1753920000-1754006399@gestionempresarialjoma.es
SUMMARY:Hasta el 31 de julio
DESCRIPTION:Hasta el 31 de julio\nNúmero de Identificación Fiscal\n\nSegundo trimestre 2025. Cuentas y operaciones cuyos titulares no han facilitado el NIF a las entidades de crédito: 195\n\nIVA\n\nJunio 2025. Ventanilla única – Régimen de importación: 369\nSegundo trimestre 2025: Ventanilla única – Regímenes exterior y de la Unión: 369\n\nImpuesto sobre Depósitos en las Entidades de Crédito\n\nAutoliquidación 2024: 411\nPago a cuenta. Autoliquidación 2025: 410\n\nImpuesto sobre Determinados Servicios Digitales\n\nSegundo trimestre 2025: 490\n\nImpuestos Medioambientales\n\nJunio 2025. Impuesto especial sobre los envases de plástico no reutilizables. Presentación contabilidad y libro registro de existencias\nSegundo trimestre 2025. Impuesto especial sobre los envases de plástico no reutilizables. Presentación contabilidad y libro registro de existencias\n\nImpuesto temporal de Solidaridad de las Grandes Fortunas\n\nAño 2024: 718\n\nDeclaración informativa sobre pagos transfronterizos\n\nSegundo trimestre 2025: 379\n\nDeclaración informativa de actualización de determinados mecanismos transfronterizos comercializables\n\nSegundo trimestre 2025: 235\n\nDeclaración informativa trimestral de operaciones de comercio de bienes corporales realizadas en la zona especial canaria sin que las mercancías transiten por territorio canario\n\nSegundo trimestre 2025: 281
URL:https://gestionempresarialjoma.es/fecha/calendario-contribuyente-2025-hasta-31-julio
CATEGORIES:Asesoría fiscal
END:VEVENT
END:VCALENDAR