BEGIN:VCALENDAR
VERSION:2.0
PRODID:-//Joma - ECPv5.3.2//NONSGML v1.0//EN
CALSCALE:GREGORIAN
METHOD:PUBLISH
X-WR-CALNAME:Joma
X-ORIGINAL-URL:https://gestionempresarialjoma.es
X-WR-CALDESC:Eventos para Joma
BEGIN:VTIMEZONE
TZID:UTC
BEGIN:STANDARD
TZOFFSETFROM:+0000
TZOFFSETTO:+0000
TZNAME:UTC
DTSTART:20240101T000000
END:STANDARD
END:VTIMEZONE
BEGIN:VEVENT
DTSTART;VALUE=DATE:20240930
DTEND;VALUE=DATE:20241001
DTSTAMP:20260421T224452
CREATED:20240915T162834Z
LAST-MODIFIED:20240915T163608Z
UID:1844-1727654400-1727740799@gestionempresarialjoma.es
SUMMARY:Hasta el 30 de septiembre
DESCRIPTION:IVA\n\nAño 2023. Solicitud de devolución del IVA soportado: 360\,361\nAgosto 2024. Autoliquidación: 303\nAgosto 2024. Grupo de entidades\, modelo individual: 322\nAgosto 2024. Grupo de entidades\, modelo agregado: 353\nAgosto 2024. Ventanilla única – Régimen de importación: 369\nAgosto 2024. Operaciones asimiladas a las importaciones: 380\nPrimer trimestre 2024: solicitud de reembolso de las cuotas tributarias soportadas por las fuerzas armadas de los Estados miembros de la UE: 381\n\nImpuestos Medioambientales\n\nJulio y agosto 2024. Impuesto especial sobre los envases de plástico no reutilizables. Presentación contabilidad y libro registro de existencias
URL:https://gestionempresarialjoma.es/fecha/contribuyente-2024-hasta-30-septiembre
END:VEVENT
BEGIN:VEVENT
DTSTART;VALUE=DATE:20241021
DTEND;VALUE=DATE:20241022
DTSTAMP:20260421T224452
CREATED:20240915T164105Z
LAST-MODIFIED:20240915T164347Z
UID:1851-1729468800-1729555199@gestionempresarialjoma.es
SUMMARY:Hasta el 21 de octubre
DESCRIPTION:Renta y Sociedades\nRetenciones e ingresos a cuenta de rendimientos del trabajo\, actividades económicas\, premios y determinadas ganancias patrimoniales e imputaciones de renta\, ganancias derivadas de acciones y participaciones de las Instituciones de Inversión Colectiva\, rentas de arrendamiento de inmuebles urbanos\, capital mobiliario\, personas autorizadas y saldos en cuentas. \n\nSeptiembre 2024. Grandes empresas: 111\, 115\, 117\, 123\, 124\, 126\, 128\, 216\, 230\nTercer trimestre 2024: 111\, 115\, 117\, 123\, 124\, 126\, 128\, 136\, 210\, 216\n\nPagos fraccionados Renta\n\nTercer trimestre 2024:\n\nEstimación directa: 130\nEstimación objetiva: 131\n\n\n\nPagos fraccionados Sociedades y Establecimientos Permanentes de no Residentes\n\nEjercicio en curso:\n\nRégimen general: 202\nRégimen de consolidación fiscal (grupos fiscales): 222\n\n\n\nIVA\n\nSeptiembre 2024. Declaración recapitulativa de operaciones intracomunitarias: 349\nTercer trimestre 2024. Autoliquidación: 303\nTercer trimestre 2024. Declaración-liquidación no periódica: 309\nTercer trimestre 2024. Declaración recapitulativa de operaciones intracomunitarias: 349\nTercer trimestre 2024. Operaciones asimiladas a las importaciones: 380\nSolicitud de devolución de cuotas reembolsadas a viajeros por empresarios en recargo de equivalencia: 308\nReintegro de compensaciones en el régimen especial de la agricultura\, ganadería y pesca: 341\n\nImpuesto sobre las Primas de Seguros\n\nSeptiembre 2024: 430\n\nImpuestos Especiales de Fabricación\n\nJulio 2024. Grandes empresas: 561\, 562\, 563\nSeptiembre 2024: 548\, 566\, 581\nTercer trimestre 2024: 521\, 522\, 547\nTercer trimestre 2024. Actividades V1\, F1: 553 (establecimientos autorizados para la llevanza de la contabilidad en soporte papel)\nTercer trimestre 2024. Solicitudes de devolución: 506\, 507\, 508\, 524\, 572\nDeclaración de operaciones por los destinatarios registrados\, representantes fiscales y receptores autorizados: 510\n\nImpuesto Especial sobre la Electricidad\n\nSeptiembre 2024. Grandes empresas: 560\nTercer trimestre 2024. Excepto grandes empresas: 560\n\nImpuestos Medioambientales\n\nSeptiembre 2024. Impuesto especial sobre los envases de plástico no reutilizables. Autoliquidación: 592\nTercer trimestre 2024. Impuesto sobre los gases fluorados de efecto invernadero. Autoliquidación: 587. Solicitud de devolución: A23. Presentación contabilidad de existencias\nTercer trimestre 2024. Impuesto especial sobre los envases de plástico no reutilizables. Autoliquidación: 592. Solicitud de devolución: A22\nAño 2024. Impuesto sobre el almacenamiento de combustible nuclear gastado y residuos radiactivos en instalaciones centralizadas. Tercer pago fraccionado: 585\nAño 2024. Impuesto sobre el Valor de la Extracción de Gas\, Petróleo y Condensados. Pago fraccionado: 589\n\nImpuesto Especial sobre el Carbón\n\nTercer trimestre 2024: 595\n\nImpuesto sobre las Transacciones Financieras\n\nSeptiembre 2024: 604\n\nAportación a realizar por los prestadores del servicio de comunicación audiovisual televisivo y por los prestadores del servicio de intercambio de vídeos a través de plataforma de ámbito geográfico estatal o superior al de una Comunidad Autónoma\n\nPago a cuenta 3P 2024: 793
URL:https://gestionempresarialjoma.es/fecha/contribuyente-2024-hasta-21-octubre
END:VEVENT
BEGIN:VEVENT
DTSTART;VALUE=DATE:20241030
DTEND;VALUE=DATE:20241031
DTSTAMP:20260421T224452
CREATED:20240915T164409Z
LAST-MODIFIED:20240915T164537Z
UID:1854-1730246400-1730332799@gestionempresarialjoma.es
SUMMARY:Hasta el 30 de octubre
DESCRIPTION:IVA\n\nSeptiembre 2024. Autoliquidación: 303\nSeptiembre 2024. Grupo de entidades\, modelo individual: 322\nSeptiembre 2024. Grupo de entidades\, modelo agregado: 353\nSeptiembre 2024. Operaciones asimiladas a las importaciones: 380\n\nImpuestos Medioambientales\n\nTercer trimestre 2024. Impuesto sobre el depósito de residuos en vertederos\, la incineración y la coincineración de residuos. Autoliquidación: 593
URL:https://gestionempresarialjoma.es/fecha/contribuyente-2024-hasta-30-octubre
END:VEVENT
BEGIN:VEVENT
DTSTART;VALUE=DATE:20241031
DTEND;VALUE=DATE:20241101
DTSTAMP:20260421T224452
CREATED:20240915T164604Z
LAST-MODIFIED:20240915T164751Z
UID:1857-1730332800-1730419199@gestionempresarialjoma.es
SUMMARY:Hasta el 31 de octubre
DESCRIPTION:Número de Identificación Fiscal\n\nTercer trimestre 2024. Cuentas y operaciones cuyos titulares no han facilitado el NIF a las entidades de crédito: 195\n\nIVA\n\nSeptiembre 2024. Ventanilla única – Régimen de importación: 369\nTercer trimestre 2024. Ventanilla única – Regímenes exterior y de la Unión: 369\n\nImpuestos sobre Determinados Servicios Digitales\n\nTercer trimestre 2024: 490\n\nImpuestos Medioambientales\n\nSeptiembre 2024. Impuesto especial sobre los envases de plástico no reutilizables. Presentación contabilidad y libro registro de existencias\nTercer trimestre 2024. Impuesto especial sobre los envases de plástico no reutilizables. Presentación contabilidad y libro registro de existencias\n\nDeclaración informativa de actualización de determinados mecanismos transfronterizos comercializables\n\nTercer trimestre 2024: 235\n\nDeclaración informativa trimestral de operaciones de comercio de bienes corporales realizadas en la zona especial canaria sin que las mercancías transiten por territorio canario\n\nTercer trimestre 2024: 281\n\nDeclaración informativa sobre pagos transfronterizos\n\nTercer trimestre 2024: 379\n\nCuenta Corriente Tributaria\n\nSolicitud de inclusión para el año 2025: CCT (Cuenta Corriente Tributaria)\nLa renuncia se deberá formular en el modelo de “Solicitud de inclusión/comunicación de renuncia al sistema de cuenta corriente en materia tributaria”
URL:https://gestionempresarialjoma.es/fecha/contribuyente-2024-hasta-31-octubre
END:VEVENT
END:VCALENDAR