BEGIN:VCALENDAR
VERSION:2.0
PRODID:-//Joma - ECPv5.3.2//NONSGML v1.0//EN
CALSCALE:GREGORIAN
METHOD:PUBLISH
X-WR-CALNAME:Joma
X-ORIGINAL-URL:https://gestionempresarialjoma.es
X-WR-CALDESC:Eventos para Joma
BEGIN:VTIMEZONE
TZID:UTC
BEGIN:STANDARD
TZOFFSETFROM:+0000
TZOFFSETTO:+0000
TZNAME:UTC
DTSTART:20240101T000000
END:STANDARD
END:VTIMEZONE
BEGIN:VEVENT
DTSTART;VALUE=DATE:20240920
DTEND;VALUE=DATE:20240921
DTSTAMP:20260422T002107
CREATED:20240915T163332Z
LAST-MODIFIED:20240915T163919Z
UID:1847-1726790400-1726876799@gestionempresarialjoma.es
SUMMARY:Hasta el 20 de septiembre
DESCRIPTION:Renta y Sociedades\nRetenciones e ingresos a cuenta de rendimientos del trabajo\, actividades económicas\, premios y determinadas ganancias patrimoniales e imputaciones de renta\, ganancias derivadas de acciones y participaciones de las Instituciones de Inversión Colectiva\, rentas de arrendamiento de inmuebles urbanos\, capital mobiliario\, personas autorizadas y saldos en cuentas. \n\nAgosto 2024. Grandes empresas: 111\, 115\, 117\, 123\, 124\, 126\, 128\, 216\, 230\n\nIVA\n\nJulio y agosto 2024. Declaración recapitulativa de operaciones intracomunitarias: 349\n\nImpuesto sobre las Primas de Seguros\n\nJulio y agosto 2024: 430\n\nImpuestos Especiales de Fabricación\n\nJunio 2024. Grandes empresas: 561\, 562\, 563\nAgosto 2024: 548\, 566\, 581\nDeclaración de operaciones por los destinatarios registrados\, representantes fiscales y receptores autorizados: 510\n\nImpuesto Especial sobre la Electricidad\n\nAgosto 2024. Grandes empresas: 560\n\nImpuestos Medioambientales\n\nAgosto 2024. Impuesto especial sobre los envases de plástico no reutilizables. Autoliquidación: 592\nAño 2024. Impuesto sobre el valor de la producción de la energía eléctrica. Segundo pago fraccionado: 583\n\nImpuesto sobre las Transacciones Financieras\n\nAgosto 2024: 604\n\nGravamen temporal energético\n\nDeclaración del ingreso de la prestación 2024: 795\n\nGravamen temporal de entidades de crédito y establecimientos financieros de crédito\n\nDeclaración del ingreso de la prestación 2024: 797
URL:https://gestionempresarialjoma.es/fecha/contribuyente-2024-hasta-20-septiembre
END:VEVENT
BEGIN:VEVENT
DTSTART;VALUE=DATE:20240930
DTEND;VALUE=DATE:20241001
DTSTAMP:20260422T002107
CREATED:20240915T162834Z
LAST-MODIFIED:20240915T163608Z
UID:1844-1727654400-1727740799@gestionempresarialjoma.es
SUMMARY:Hasta el 30 de septiembre
DESCRIPTION:IVA\n\nAño 2023. Solicitud de devolución del IVA soportado: 360\,361\nAgosto 2024. Autoliquidación: 303\nAgosto 2024. Grupo de entidades\, modelo individual: 322\nAgosto 2024. Grupo de entidades\, modelo agregado: 353\nAgosto 2024. Ventanilla única – Régimen de importación: 369\nAgosto 2024. Operaciones asimiladas a las importaciones: 380\nPrimer trimestre 2024: solicitud de reembolso de las cuotas tributarias soportadas por las fuerzas armadas de los Estados miembros de la UE: 381\n\nImpuestos Medioambientales\n\nJulio y agosto 2024. Impuesto especial sobre los envases de plástico no reutilizables. Presentación contabilidad y libro registro de existencias
URL:https://gestionempresarialjoma.es/fecha/contribuyente-2024-hasta-30-septiembre
END:VEVENT
END:VCALENDAR