BEGIN:VCALENDAR
VERSION:2.0
PRODID:-//Joma - ECPv5.3.2//NONSGML v1.0//EN
CALSCALE:GREGORIAN
METHOD:PUBLISH
X-WR-CALNAME:Joma
X-ORIGINAL-URL:https://gestionempresarialjoma.es
X-WR-CALDESC:Eventos para Joma
BEGIN:VTIMEZONE
TZID:UTC
BEGIN:STANDARD
TZOFFSETFROM:+0000
TZOFFSETTO:+0000
TZNAME:UTC
DTSTART:20220101T000000
END:STANDARD
END:VTIMEZONE
BEGIN:VEVENT
DTSTART;VALUE=DATE:20221130
DTEND;VALUE=DATE:20221201
DTSTAMP:20260423T110229
CREATED:20221002T181820Z
LAST-MODIFIED:20221002T181942Z
UID:1641-1669766400-1669852799@gestionempresarialjoma.es
SUMMARY:Hasta el 30 de noviembre
DESCRIPTION:IVA\n\nOctubre 2022. Autoliquidación: 303\nOctubre 2022. Grupo de entidades\, modelo individual: 322\nOctubre 2022. Grupo de entidades\, modelo agregado: 353\nOctubre 2022.Ventanilla única – Régimen de importación: 369\nSolicitud de inscripción/baja. Registro de devolución mensual: 036\nSolicitud aplicación régimen de deducción común para sectores diferenciados para 2022: sin modelo\nSII. Opción o renuncia por la llevanza electrónica de los libros registro: 036\nSII. Comunicación de la opción / renuncia por la facturación por los destinatarios de las operaciones o terceros: 036\n\nDeclaración informativa de operaciones vinculadas y de operaciones y situaciones relacionadas con países o territorios calificados como paraísos fiscales.\n\nAño 2021: Entidades cuyo período impositivo coincida con el año natural: 232Resto de entidades: en el mes siguiente a los diez meses posteriores al fin del período impositivo.\n\nImpuestos medioambientales\n\nAño 2021. Autoliquidación: 583\nAño 2022: Autoliquidación anual por cese de actividad: 588
URL:https://gestionempresarialjoma.es/fecha/contribuyente-2022-hasta-el-30-noviembre
END:VEVENT
BEGIN:VEVENT
DTSTART;VALUE=DATE:20221220
DTEND;VALUE=DATE:20221221
DTSTAMP:20260423T110229
CREATED:20221002T182010Z
LAST-MODIFIED:20221002T182115Z
UID:1644-1671494400-1671580799@gestionempresarialjoma.es
SUMMARY:Hasta el 20 de diciembre
DESCRIPTION:Renta y Sociedades\nRetenciones e ingresos a cuenta de rendimientos del trabajo\, actividades económicas\, premios y determinadas ganancias patrimoniales e imputaciones de renta\, ganancias derivadas de acciones y participaciones de las instituciones de inversión colectiva\, rentas de arrendamiento de inmuebles urbanos\, capital mobiliario\, personas autorizadas y saldos en cuentas. \n\nNoviembre 2022. Grandes empresas: 111\, 115\, 117\, 123\, 124\, 126\, 128\, 216\, 230\n\nPagos fraccionados sociedades y establecimientos permanentes de no residentes \n\nEjercicio en curso:\n\nRégimen general: 202\nRégimen de consolidación fiscal (grupos fiscales): 222\n\n\n\nIVA\n\nNoviembre 2022. Declaración recapitulativa de operaciones intracomunitarias: 349\nNoviembre 2022. Operaciones asimiladas a las importaciones: 380\n\nImpuesto sobre las primas de seguros\n\nNoviembre 2022: 430\n\nImpuestos especiales de fabricación\n\nSeptiembre 2022. Grandes empresas: 561\, 562\, 563\nNoviembre 2022: 548\, 566\, 581\nDeclaración de operaciones por los destinatarios registrados\, representantes fiscales y receptores autorizados: 510\n\nImpuesto especial sobre la electricidad\n\nNoviembre 2022. Grandes empresas: 560\n\nImpuestos medioambientales\n\nPago fraccionado: 584\nAño 2021. Declaración informativa anual operaciones con contribuyentes: 591\n\nImpuesto sobre las transacciones financieras\n\nNoviembre 2022: 604
URL:https://gestionempresarialjoma.es/fecha/contribuyente-2022-hasta-el-20-de-diciembre
END:VEVENT
BEGIN:VEVENT
DTSTART;VALUE=DATE:20221230
DTEND;VALUE=DATE:20221231
DTSTAMP:20260423T110229
CREATED:20221002T182151Z
LAST-MODIFIED:20221002T182255Z
UID:1646-1672358400-1672444799@gestionempresarialjoma.es
SUMMARY:Hasta el 30 de diciembre
DESCRIPTION:IVA\n\nNoviembre 2022. Autoliquidación: 303\nNoviembre 2022. Grupo de entidades\, modelo individual: 322\nNoviembre 2022. Grupo de entidades\, modelo agregado: 353
URL:https://gestionempresarialjoma.es/fecha/contribuyente-2022-hasta-el-30-de-diciembre
END:VEVENT
END:VCALENDAR