BEGIN:VCALENDAR
VERSION:2.0
PRODID:-//Joma - ECPv5.3.2//NONSGML v1.0//EN
CALSCALE:GREGORIAN
METHOD:PUBLISH
X-WR-CALNAME:Joma
X-ORIGINAL-URL:https://gestionempresarialjoma.es
X-WR-CALDESC:Eventos para Joma
BEGIN:VTIMEZONE
TZID:UTC
BEGIN:STANDARD
TZOFFSETFROM:+0000
TZOFFSETTO:+0000
TZNAME:UTC
DTSTART:20220101T000000
END:STANDARD
END:VTIMEZONE
BEGIN:VEVENT
DTSTART;VALUE=DATE:20221031
DTEND;VALUE=DATE:20221101
DTSTAMP:20260423T124426
CREATED:20221002T181236Z
LAST-MODIFIED:20221002T181402Z
UID:1633-1667174400-1667260799@gestionempresarialjoma.es
SUMMARY:Hasta el 31 de octubre
DESCRIPTION:IVA (Impuesto sobre el Valor Añadido)\n\nSeptiembre 2022. Autoliquidación: 303\nSeptiembre 2022. Grupo de entidades\, modelo individual: 322\nSeptiembre 2022. Grupo de entidades\, modelo agregado: 353\nSeptiembre 2022. Ventanilla única – Régimen de importación: 369\nTercer trimestre 2022. Ventanilla única – Regímenes exterior y de la Unión: 369\n\nDeclaración informativa trimestral de la cesión de uso de viviendas con fines turísticos\n\nSegundo y tercer trimestre 2022: 179\n\nNúmero de identificación fiscal\n\nTercer trimestre 2022. Cuentas y operaciones cuyos titulares no han facilitado el NIF a las entidades de crédito: 195\n\nDeclaración informativa de actualización de determinados mecanismos transfronterizos comercializables \n\nTercer trimestre 2022: 235\n\nCuenta corriente tributaria\n\nSolicitud de inclusión para el año 2023: CCT (Cuenta Corriente Tributaria)La renuncia se deberá formular en el modelo de “Solicitud de inclusión/comunicación de renuncia al sistema de cuenta corriente en materia tributaria”\n\nImpuestos sobre determinados servicios digitales\n\nTercer trimestre 2022: 490
URL:https://gestionempresarialjoma.es/fecha/hasta-el-31-de-mayo-copy-copy
END:VEVENT
BEGIN:VEVENT
DTSTART;VALUE=DATE:20221107
DTEND;VALUE=DATE:20221108
DTSTAMP:20260423T124426
CREATED:20221002T181437Z
LAST-MODIFIED:20221002T181555Z
UID:1636-1667779200-1667865599@gestionempresarialjoma.es
SUMMARY:Hasta el 7 de noviembre
DESCRIPTION:Renta\n\nIngreso del segundo plazo de la declaración anual de 2021\, si se fraccionó el pago: 102
URL:https://gestionempresarialjoma.es/fecha/contribuyente-2022-hasta-el-7-noviembre
END:VEVENT
BEGIN:VEVENT
DTSTART;VALUE=DATE:20221121
DTEND;VALUE=DATE:20221122
DTSTAMP:20260423T124426
CREATED:20221002T181648Z
LAST-MODIFIED:20221002T181743Z
UID:1639-1668988800-1669075199@gestionempresarialjoma.es
SUMMARY:Hasta el 21 de noviembre
DESCRIPTION:Renta y Sociedades\nRetenciones e ingresos a cuenta de rendimientos del trabajo\, actividades económicas\, premios y determinadas ganancias patrimoniales e imputaciones de renta\, ganancias derivadas de acciones y participaciones de las instituciones de inversión colectiva\, rentas de arrendamiento de inmuebles urbanos\, capital mobiliario\, personas autorizadas y saldos en cuentas. \n\nOctubre 2022. Grandes empresas: 111\, 115\, 117\, 123\, 124\, 126\, 128\, 216\, 230\n\nIVA\n\nOctubre 2022. Declaración recapitulativa de operaciones intracomunitarias: 349\nOctubre 2022. Operaciones asimiladas a las importaciones: 380\n\nImpuesto sobre las primas de seguros\n\nOctubre 2022: 430\n\nImpuestos especiales de fabricación\n\nAgosto 2022. Grandes empresas: 561\, 562\, 563\nOctubre 2022: 548\, 566\, 581\nTercer trimestre 2022. Excepto grandes empresas: 561\, 562\, 563\nDeclaración de operaciones por los destinatarios registrados\, representantes fiscales y receptores autorizados: 510\n\nImpuesto especial sobre la electricidad\n\nOctubre 2022. Grandes empresas: 560\n\nImpuestos medioambientales\n\nTercer trimestre 2022. Pago fraccionado: 583\n\nImpuesto sobre las transacciones financieras\n\nOctubre 2022: 604
URL:https://gestionempresarialjoma.es/fecha/contribuyente-2022-hasta-el-21-noviembre
END:VEVENT
BEGIN:VEVENT
DTSTART;VALUE=DATE:20221130
DTEND;VALUE=DATE:20221201
DTSTAMP:20260423T124426
CREATED:20221002T181820Z
LAST-MODIFIED:20221002T181942Z
UID:1641-1669766400-1669852799@gestionempresarialjoma.es
SUMMARY:Hasta el 30 de noviembre
DESCRIPTION:IVA\n\nOctubre 2022. Autoliquidación: 303\nOctubre 2022. Grupo de entidades\, modelo individual: 322\nOctubre 2022. Grupo de entidades\, modelo agregado: 353\nOctubre 2022.Ventanilla única – Régimen de importación: 369\nSolicitud de inscripción/baja. Registro de devolución mensual: 036\nSolicitud aplicación régimen de deducción común para sectores diferenciados para 2022: sin modelo\nSII. Opción o renuncia por la llevanza electrónica de los libros registro: 036\nSII. Comunicación de la opción / renuncia por la facturación por los destinatarios de las operaciones o terceros: 036\n\nDeclaración informativa de operaciones vinculadas y de operaciones y situaciones relacionadas con países o territorios calificados como paraísos fiscales.\n\nAño 2021: Entidades cuyo período impositivo coincida con el año natural: 232Resto de entidades: en el mes siguiente a los diez meses posteriores al fin del período impositivo.\n\nImpuestos medioambientales\n\nAño 2021. Autoliquidación: 583\nAño 2022: Autoliquidación anual por cese de actividad: 588
URL:https://gestionempresarialjoma.es/fecha/contribuyente-2022-hasta-el-30-noviembre
END:VEVENT
END:VCALENDAR