BEGIN:VCALENDAR
VERSION:2.0
PRODID:-//Joma - ECPv5.3.2//NONSGML v1.0//EN
CALSCALE:GREGORIAN
METHOD:PUBLISH
X-WR-CALNAME:Joma
X-ORIGINAL-URL:https://gestionempresarialjoma.es
X-WR-CALDESC:Eventos para Joma
BEGIN:VTIMEZONE
TZID:UTC
BEGIN:STANDARD
TZOFFSETFROM:+0000
TZOFFSETTO:+0000
TZNAME:UTC
DTSTART:20220101T000000
END:STANDARD
END:VTIMEZONE
BEGIN:VEVENT
DTSTART;VALUE=DATE:20220930
DTEND;VALUE=DATE:20221001
DTSTAMP:20260423T145203
CREATED:20221002T180736Z
LAST-MODIFIED:20221002T180921Z
UID:1627-1664496000-1664582399@gestionempresarialjoma.es
SUMMARY:Hasta el 30 de septiembre
DESCRIPTION:IVA\n\nAño 2021. Solicitud de devolución del IVA soportado: 360\,361\nAgosto 2022. Autoliquidación: 303\nAgosto 2022. Grupo de entidades\, modelo individual: 322\nAgosto 2022. Grupo de entidades\, modelo agregado: 353\nAgosto 2022. Ventanilla única – Régimen de importación: 369
URL:https://gestionempresarialjoma.es/fecha/hasta-el-30-de-septiembre-2022
END:VEVENT
BEGIN:VEVENT
DTSTART;VALUE=DATE:20221020
DTEND;VALUE=DATE:20221021
DTSTAMP:20260423T145203
CREATED:20221002T181002Z
LAST-MODIFIED:20221002T181133Z
UID:1630-1666224000-1666310399@gestionempresarialjoma.es
SUMMARY:Hasta el 20 de octubre
DESCRIPTION:Renta y Sociedades\nRetenciones e ingresos a cuenta de rendimientos del trabajo\, actividades económicas\, premios y determinadas ganancias patrimoniales e imputaciones de renta\, ganancias derivadas de acciones y participaciones de las instituciones de inversión colectiva\, rentas de arrendamiento de inmuebles urbanos\, capital mobiliario\, personas autorizadas y saldos en cuentas. \n\nSeptiembre 2022. Grandes empresas: 111\, 115\, 117\, 123\, 124\, 126\, 128\, 216\, 230\nTercer trimestre 2022: 111\, 115\, 117\, 123\, 124\, 126\, 128\, 136\, 210\, 216\n\nPagos fraccionados Renta \n\nTercer trimestre 2022:\n\nEstimación directa: 130\nEstimación objetiva: 131\n\n\n\nPagos fraccionados Sociedades y Establecimientos Permanentes de no Residentes \n\nEjercicio en curso:\n\nRégimen general: 202\nRégimen de consolidación fiscal (grupos fiscales): 222\n\n\n\nIVA\n\nSeptiembre 2022. Declaración recapitulativa de operaciones intracomunitarias: 349\nSeptiembre 2022. Operaciones asimiladas a las importaciones: 380\nTercer trimestre 2022. Autoliquidación: 303\nTercer trimestre 2022. Declaración-liquidación no periódica: 309\nTercer trimestre 2022. Declaración recapitulativa de operaciones intracomunitarias: 349\nTercer trimestre 2022. Operaciones asimiladas a las importaciones: 380\nSolicitud de devolución del recargo de equivalencia y sujetos pasivos ocasionales: 308\nReintegro de compensaciones en el régimen especial de la agricultura\, ganadería y pesca: 341\n\nImpuesto sobre las primas de seguros\n\nSeptiembre 2022: 430\n\nImpuestos especiales de fabricación\n\nJulio 2022. Grandes empresas: 561\, 562\, 563\nSeptiembre 2022: 548\, 566\, 581\nTercer trimestre 2022: 521\, 522\, 547\nTercer trimestre 2022. Actividades V1\, F1: 553 (establecimientos autorizados para la llevanza de la contabilidad en soporte papel)\nTercer trimestre 2022. Solicitudes de devolución: 506\, 507\, 508\, 524\, 572\nDeclaración de operaciones por los destinatarios registrados\, representantes fiscales y receptores autorizados: 510\n\nImpuesto especial sobre la electricidad\n\nSeptiembre 2022. Grandes empresas: 560\nTercer trimestre 2022. Excepto grandes empresas: 560\n\nImpuestos medioambientales\n\nTercer trimestre 2022. Pago fraccionado: 585\nPago fraccionado 2022: 589\n\nImpuesto especial sobre el carbón\n\nTercer trimestre 2022: 595\n\nImpuesto sobre las transacciones financieras\n\nSeptiembre 2022: 604
URL:https://gestionempresarialjoma.es/fecha/contribuyente-hasta-el-20-de-octubre-2022
END:VEVENT
BEGIN:VEVENT
DTSTART;VALUE=DATE:20221031
DTEND;VALUE=DATE:20221101
DTSTAMP:20260423T145203
CREATED:20221002T181236Z
LAST-MODIFIED:20221002T181402Z
UID:1633-1667174400-1667260799@gestionempresarialjoma.es
SUMMARY:Hasta el 31 de octubre
DESCRIPTION:IVA (Impuesto sobre el Valor Añadido)\n\nSeptiembre 2022. Autoliquidación: 303\nSeptiembre 2022. Grupo de entidades\, modelo individual: 322\nSeptiembre 2022. Grupo de entidades\, modelo agregado: 353\nSeptiembre 2022. Ventanilla única – Régimen de importación: 369\nTercer trimestre 2022. Ventanilla única – Regímenes exterior y de la Unión: 369\n\nDeclaración informativa trimestral de la cesión de uso de viviendas con fines turísticos\n\nSegundo y tercer trimestre 2022: 179\n\nNúmero de identificación fiscal\n\nTercer trimestre 2022. Cuentas y operaciones cuyos titulares no han facilitado el NIF a las entidades de crédito: 195\n\nDeclaración informativa de actualización de determinados mecanismos transfronterizos comercializables \n\nTercer trimestre 2022: 235\n\nCuenta corriente tributaria\n\nSolicitud de inclusión para el año 2023: CCT (Cuenta Corriente Tributaria)La renuncia se deberá formular en el modelo de “Solicitud de inclusión/comunicación de renuncia al sistema de cuenta corriente en materia tributaria”\n\nImpuestos sobre determinados servicios digitales\n\nTercer trimestre 2022: 490
URL:https://gestionempresarialjoma.es/fecha/hasta-el-31-de-mayo-copy-copy
END:VEVENT
END:VCALENDAR