BEGIN:VCALENDAR
VERSION:2.0
PRODID:-//Joma - ECPv5.3.2//NONSGML v1.0//EN
CALSCALE:GREGORIAN
METHOD:PUBLISH
X-WR-CALNAME:Joma
X-ORIGINAL-URL:https://gestionempresarialjoma.es
X-WR-CALDESC:Eventos para Joma
BEGIN:VTIMEZONE
TZID:UTC
BEGIN:STANDARD
TZOFFSETFROM:+0000
TZOFFSETTO:+0000
TZNAME:UTC
DTSTART:20220101T000000
END:STANDARD
END:VTIMEZONE
BEGIN:VEVENT
DTSTART;VALUE=DATE:20220502
DTEND;VALUE=DATE:20220503
DTSTAMP:20260425T153108
CREATED:20220328T181624Z
LAST-MODIFIED:20220328T181751Z
UID:1601-1651449600-1651535999@gestionempresarialjoma.es
SUMMARY:Hasta el 2 de mayo
DESCRIPTION:IVA\n\nMarzo 2022. Autoliquidación: 303\nMarzo 2022. Grupo de entidades\, modelo individual: 322\nMarzo 2022. Grupo de entidades\, modelo agregado: 353\nMarzo 2022. Ventanilla única – Régimen de importación: 369\nMarzo 2022. Operaciones asimiladas a las importaciones: 380\nPrimer trimestre 2022: Ventanilla única – Regímenes exterior y de la Unión: 369\n\nDECLARACIÓN INFORMATIVA TRIMESTRAL DE LA CESIÓN DE USO DE VIVIENDAS CON FINES TURÍSTICOS\n\nPrimer trimestre 2022: 179\n\nNÚMERO DE IDENTIFICACIÓN FISCAL\n\nPrimer trimestre 2022. Cuentas y operaciones cuyos titulares no han facilitado el NIF a las entidades de crédito: 195\n\nDECLARACIÓN INFORMATIVA DE ACTUALIZACIÓN DE DETERMINADOS MECANISMOS TRANSFRONTERIZOS COMERCIALIZABLES\n\nPrimer trimestre 2022: 235\n\nIMPUESTO SOBRE DETERMINADOS SERVICIOS DIGITALES\n\nPrimer trimestre 2022: 490
URL:https://gestionempresarialjoma.es/fecha/hasta-el-2-de-mayo
END:VEVENT
BEGIN:VEVENT
DTSTART;VALUE=DATE:20220520
DTEND;VALUE=DATE:20220521
DTSTAMP:20260425T153108
CREATED:20220328T182132Z
LAST-MODIFIED:20220328T182133Z
UID:1604-1653004800-1653091199@gestionempresarialjoma.es
SUMMARY:Hasta el 20 de mayo
DESCRIPTION:RENTA Y SOCIEDADES\nRetenciones e ingresos a cuenta de rendimientos del trabajo\, actividades económicas\, premios y determinadas ganancias patrimoniales e imputaciones de renta\, ganancias derivadas de acciones y participaciones de las instituciones de inversión colectiva\, rentas de arrendamiento de inmuebles urbanos\, capital mobiliario\, personas autorizadas y saldos en cuentas \n\nAbril 2022. Grandes empresas: 111\, 115\, 117\, 123\, 124\, 126\, 128\, 216\, 230\n\nIVA\n\nAbril 2022. Declaración recapitulativa de operaciones intracomunitarias: 349\n\nIMPUESTO SOBRE LAS PRIMAS DE SEGUROS\n\nAbril 2022: 430\n\nIMPUESTOS ESPECIALES DE FABRICACIÓN\n\nFebrero 2022. Grandes empresas: 561\, 562\, 563\nAbril 2022: 548\, 566\, 581\nPrimer trimestre 2022. Excepto grandes empresas: 561\, 562\, 563\nDeclaración de operaciones por los destinatarios registrados\, representantes fiscales y receptores autorizados: 510\n\nIMPUESTO ESPECIAL SOBRE LA ELECTRICIDAD\n\nAbril 2022. Grandes empresas: 560\n\nIMPUESTOS MEDIOAMBIENTALES\n\nPrimer trimestre 2022. Pago fraccionado: 583\nPrimer cuatrimestre 2022. Autoliquidación: 587\n\nIMPUESTOS SOBRE LAS TRANSACCIONES FINANCIERAS\n\nAbril 2022: 604
URL:https://gestionempresarialjoma.es/fecha/hasta-el-20-de-mayo
END:VEVENT
BEGIN:VEVENT
DTSTART;VALUE=DATE:20220530
DTEND;VALUE=DATE:20220531
DTSTAMP:20260425T153108
CREATED:20220328T182253Z
LAST-MODIFIED:20220328T182551Z
UID:1606-1653868800-1653955199@gestionempresarialjoma.es
SUMMARY:Hasta el 30 de mayo
DESCRIPTION:IVA\n\nAbril 2022. Autoliquidación: 303\nAbril 2022. Grupo de entidades\, modelo individual: 322\nAbril 2022. Grupo de entidades\, modelo agregado: 353
URL:https://gestionempresarialjoma.es/fecha/hasta-el-30-de-mayo
END:VEVENT
BEGIN:VEVENT
DTSTART;VALUE=DATE:20220531
DTEND;VALUE=DATE:20220601
DTSTAMP:20260425T153108
CREATED:20220328T182429Z
LAST-MODIFIED:20220328T182525Z
UID:1608-1653955200-1654041599@gestionempresarialjoma.es
SUMMARY:Hasta el 31 de mayo
DESCRIPTION:IVA\n\nAbril 2022. Ventanilla única – Régimen de importación: 369\n\nDECLARACIÓN ANUAL DE CUENTAS FINANCIERAS EN EL ÁMBITO DE LA ASISTENCIA MUTUA\n\nAño 2021: 289\n\nDECLARACIÓN ANUAL DE CUENTAS FINANCIERAS DE DETERMINADAS PERSONAS ESTADOUNIDENSES\n\nAño 2021: 290
URL:https://gestionempresarialjoma.es/fecha/hasta-el-31-de-mayo-copy
END:VEVENT
END:VCALENDAR