BEGIN:VCALENDAR
VERSION:2.0
PRODID:-//Joma - ECPv5.3.2//NONSGML v1.0//EN
CALSCALE:GREGORIAN
METHOD:PUBLISH
X-WR-CALNAME:Joma
X-ORIGINAL-URL:https://gestionempresarialjoma.es
X-WR-CALDESC:Eventos para Joma
BEGIN:VTIMEZONE
TZID:UTC
BEGIN:STANDARD
TZOFFSETFROM:+0000
TZOFFSETTO:+0000
TZNAME:UTC
DTSTART:20200101T000000
END:STANDARD
END:VTIMEZONE
BEGIN:VEVENT
DTSTART;VALUE=DATE:20200520
DTEND;VALUE=DATE:20200521
DTSTAMP:20260421T114809
CREATED:20200525T191331Z
LAST-MODIFIED:20200531T183811Z
UID:942-1589932800-1590019199@gestionempresarialjoma.es
SUMMARY:Último día presentación IVA trimestral
DESCRIPTION:A las 00 horas termina el plazo de presentación del IVA correspondiente a este trimestre 2020. \nÚltimo día presentación IVA trimestral
URL:https://gestionempresarialjoma.es/fecha/ultimo-dia-presentacion-iva-trimestral/2020-05-20
END:VEVENT
END:VCALENDAR