BEGIN:VCALENDAR
VERSION:2.0
PRODID:-//Joma - ECPv5.3.2//NONSGML v1.0//EN
CALSCALE:GREGORIAN
METHOD:PUBLISH
X-WR-CALNAME:Joma
X-ORIGINAL-URL:https://gestionempresarialjoma.es
X-WR-CALDESC:Eventos para Joma
BEGIN:VTIMEZONE
TZID:UTC
BEGIN:STANDARD
TZOFFSETFROM:+0000
TZOFFSETTO:+0000
TZNAME:UTC
DTSTART:20210101T000000
END:STANDARD
END:VTIMEZONE
BEGIN:VEVENT
DTSTART;VALUE=DATE:20210630
DTEND;VALUE=DATE:20210701
DTSTAMP:20260420T215555
CREATED:20210525T173520Z
LAST-MODIFIED:20210804T172003Z
UID:1402-1625011200-1625097599@gestionempresarialjoma.es
SUMMARY:Último día para presentar Renta 2020 con resultado a devolver
DESCRIPTION:Hasta el 30 de junio\n\n\nRENTA Y PATRIMONIO\n\nDeclaración anual Renta y Patrimonio 2020 con resultado a devolver\, renuncia a la devolución\, negativo y a ingresar sin domiciliación del primer plazo: D-100\, D-714\nRégimen especial de tributación por el Impuesto sobre la Renta de No Residentes para trabajadores desplazados 2020: 151\n\nIVA\n\nMayo 2021: Autoliquidación: 303\nMayo 2021: Grupo de entidades\, modelo individual: 322\nMayo 2021: Grupo de entidades\, modelo agregado: 353\n\nDECLARACIÓN INFORMATIVA ANUAL DE AYUDAS RECIBIDAS EN EL MARCO DEL RÉGIMEN ECONÓMICO Y FISCAL DE CANARIAS Y OTRAS AYUDAS DE ESTADO POR CONTRIBUYENTES DEL IMPUESTO SOBRE LA RENTA DE LAS PERSONAS FÍSICAS O DEL IMPUESTO SOBRE LA RENTA DE NO RESIDENTES SIN ESTABLECIMIENTO PERMANENTE\n\nAño 2020: 282\n\n\nÚltimo día para presentar Renta 2020 con resultado a devolver
URL:https://gestionempresarialjoma.es/fecha/ultimo-dia-para-presentar-renta-2020-con-resultado-a-devolver
END:VEVENT
END:VCALENDAR