BEGIN:VCALENDAR
VERSION:2.0
PRODID:-//Joma - ECPv5.3.2//NONSGML v1.0//EN
CALSCALE:GREGORIAN
METHOD:PUBLISH
X-WR-CALNAME:Joma
X-ORIGINAL-URL:https://gestionempresarialjoma.es
X-WR-CALDESC:Eventos para Joma
BEGIN:VTIMEZONE
TZID:UTC
BEGIN:STANDARD
TZOFFSETFROM:+0000
TZOFFSETTO:+0000
TZNAME:UTC
DTSTART:20210101T000000
END:STANDARD
END:VTIMEZONE
BEGIN:VEVENT
DTSTART;VALUE=DATE:20210520
DTEND;VALUE=DATE:20210521
DTSTAMP:20260421T012232
CREATED:20210525T172621Z
LAST-MODIFIED:20210525T172621Z
UID:1394-1621468800-1621555199@gestionempresarialjoma.es
SUMMARY:Mayo: calendario del Contribuyente
DESCRIPTION:Hasta el 20 de mayo\n\n\nRENTA Y SOCIEDADES\nRetenciones e ingresos a cuenta de rendimientos del trabajo\, actividades económicas\, premios y determinadas ganancias patrimoniales e imputaciones de renta\, ganancias derivadas de acciones y participaciones de las instituciones de inversión colectiva\, rentas de arrendamiento de inmuebles urbanos\, capital mobiliario\, personas autorizadas y saldos en cuentas \n\nAbril 2021. Grandes empresas: 111\, 115\, 117\, 123\, 124\, 126\, 128\, 216\, 230\n\nIVA\n\nAbril 2021. Declaración recapitulativa de operaciones intracomunitarias: 349\nAbril 2021. Operaciones asimiladas a las importaciones: 380\n\nIMPUESTO SOBRE LAS PRIMAS DE SEGUROS\n\nAbril 2021: 430\n\nIMPUESTOS ESPECIALES DE FABRICACIÓN\n\nFebrero 2021. Grandes empresas: 561\, 562\, 563\nAbril 2021: 548\, 566\, 581\nPrimer trimestre 2021. Excepto grandes empresas: 561\, 562\, 563\nDeclaración de operaciones por los destinatarios registrados\, representantes fiscales y receptores autorizados: 510\n\nIMPUESTO ESPECIAL SOBRE LA ELECTRICIDAD\n\nAbril 2021. Grandes empresas: 560\n\nIMPUESTOS MEDIOAMBIENTALES\n\nPrimer trimestre 2021. Pago fraccionado: 583\nPrimer cuatrimestre 2021. Autoliquidación: 587\n\n\nMayo: calendario del Contribuyente
URL:https://gestionempresarialjoma.es/fecha/mayo-calendario-del-contribuyente
END:VEVENT
END:VCALENDAR