BEGIN:VCALENDAR
VERSION:2.0
PRODID:-//Joma - ECPv5.3.2//NONSGML v1.0//EN
CALSCALE:GREGORIAN
METHOD:PUBLISH
X-WR-CALNAME:Joma
X-ORIGINAL-URL:https://gestionempresarialjoma.es
X-WR-CALDESC:Eventos para Joma
BEGIN:VTIMEZONE
TZID:UTC
BEGIN:STANDARD
TZOFFSETFROM:+0000
TZOFFSETTO:+0000
TZNAME:UTC
DTSTART:20220101T000000
END:STANDARD
END:VTIMEZONE
BEGIN:VEVENT
DTSTART;VALUE=DATE:20220331
DTEND;VALUE=DATE:20220401
DTSTAMP:20260420T233838
CREATED:20220207T151640Z
LAST-MODIFIED:20220207T151750Z
UID:1568-1648684800-1648771199@gestionempresarialjoma.es
SUMMARY:Hasta el 31 de marzo
DESCRIPTION:I\nIVA\n\nFebrero 2022. Ventanilla única – Régimen de importación: 369\n\nDECLARACIÓN INFORMATIVA DE VALORES\, SEGUROS Y RENTAS\n\nAño 2021: 189\n\nDECLARACIÓN INFORMATIVA SOBRE CLIENTES PERCEPTORES DE BENEFICIOS DISTRIBUIDOS POR INSTITUCIONES DE INVERSIÓN COLECTIVA ESPAÑOLAS\, ASÍ COMO DE AQUELLOS POR CUENTA DE LOS CUALES LA ENTIDAD COMERCIALIZADORA HAYA EFECTUADO REEMBOLSOS O TRANSMISIONES DE ACCIONES O PARTICIPACIONES\n\nAño 2021: 294\n\nDECLARACIÓN INFORMATIVA SOBRE CLIENTES CON POSICIÓN INVERSORA EN INSTITUCIONES DE INVERSIÓN COLECTIVA ESPAÑOLAS\, REFERIDA A FECHA 31 DE DICIEMBRE DEL EJERCICIO\, EN LOS SUPUESTOS DE COMERCIALIZACIÓN TRANSFRONTERIZA DE ACCIONES O PARTICIPACIONES EN INSTITUCIONES DE INVERSIÓN COLECTIVA ESPAÑOLAS\n\nAño 2021: 295\n\nDECLARACIÓN INFORMATIVA SOBRE BIENES Y DERECHOS EN EL EXTRANJERO\n\nAño 2021: 720\n\nIMPUESTO SOBRE HIDROCARBUROS\n\nAño 2021. Relación anual de destinatarios de productos de la tarifa segunda: 512\nAño 2021. Relación anual de kilómetros realizados\n\nHasta el 31 de marzo
URL:https://gestionempresarialjoma.es/fecha/hasta-el-31-de-marzo
END:VEVENT
END:VCALENDAR