BEGIN:VCALENDAR
VERSION:2.0
PRODID:-//Joma - ECPv5.3.2//NONSGML v1.0//EN
CALSCALE:GREGORIAN
METHOD:PUBLISH
X-WR-CALNAME:Joma
X-ORIGINAL-URL:https://gestionempresarialjoma.es
X-WR-CALDESC:Eventos para Joma
BEGIN:VTIMEZONE
TZID:UTC
BEGIN:STANDARD
TZOFFSETFROM:+0000
TZOFFSETTO:+0000
TZNAME:UTC
DTSTART:20210101T000000
END:STANDARD
END:VTIMEZONE
BEGIN:VEVENT
DTSTART;VALUE=DATE:20210930
DTEND;VALUE=DATE:20211001
DTSTAMP:20260421T012047
CREATED:20210804T173357Z
LAST-MODIFIED:20210804T173357Z
UID:1427-1632960000-1633046399@gestionempresarialjoma.es
SUMMARY:Hasta el 30 de septiembre
DESCRIPTION:IVA\n\n\n\nAgosto 2021. Autoliquidación: 303\nAgosto 2021. Grupo de entidades\, modelo individual: 322\nAgosto 2021. Grupo de entidades\, modelo agregado: 353\n\n\nHasta el 30 de septiembre
URL:https://gestionempresarialjoma.es/fecha/hasta-el-30-de-septiembre
END:VEVENT
END:VCALENDAR