BEGIN:VCALENDAR
VERSION:2.0
PRODID:-//Joma - ECPv5.3.2//NONSGML v1.0//EN
CALSCALE:GREGORIAN
METHOD:PUBLISH
X-WR-CALNAME:Joma
X-ORIGINAL-URL:https://gestionempresarialjoma.es
X-WR-CALDESC:Eventos para Joma
BEGIN:VTIMEZONE
TZID:UTC
BEGIN:STANDARD
TZOFFSETFROM:+0000
TZOFFSETTO:+0000
TZNAME:UTC
DTSTART:20220101T000000
END:STANDARD
END:VTIMEZONE
BEGIN:VEVENT
DTSTART;VALUE=DATE:20220530
DTEND;VALUE=DATE:20220531
DTSTAMP:20260421T011605
CREATED:20220328T182253Z
LAST-MODIFIED:20220328T182551Z
UID:1606-1653868800-1653955199@gestionempresarialjoma.es
SUMMARY:Hasta el 30 de mayo
DESCRIPTION:IVA\n\nAbril 2022. Autoliquidación: 303\nAbril 2022. Grupo de entidades\, modelo individual: 322\nAbril 2022. Grupo de entidades\, modelo agregado: 353\n\nHasta el 30 de mayo
URL:https://gestionempresarialjoma.es/fecha/hasta-el-30-de-mayo
END:VEVENT
END:VCALENDAR