BEGIN:VCALENDAR
VERSION:2.0
PRODID:-//Joma - ECPv5.3.2//NONSGML v1.0//EN
CALSCALE:GREGORIAN
METHOD:PUBLISH
X-WR-CALNAME:Joma
X-ORIGINAL-URL:https://gestionempresarialjoma.es
X-WR-CALDESC:Eventos para Joma
BEGIN:VTIMEZONE
TZID:UTC
BEGIN:STANDARD
TZOFFSETFROM:+0000
TZOFFSETTO:+0000
TZNAME:UTC
DTSTART:20210101T000000
END:STANDARD
END:VTIMEZONE
BEGIN:VEVENT
DTSTART;VALUE=DATE:20210830
DTEND;VALUE=DATE:20210831
DTSTAMP:20260421T030209
CREATED:20210804T172924Z
LAST-MODIFIED:20210804T172924Z
UID:1423-1630281600-1630367999@gestionempresarialjoma.es
SUMMARY:Hasta el 30 de agosto
DESCRIPTION:IVA\n\n\n\nJulio 2021. Autoliquidación: 303\nJulio 2021. Grupo de entidades\, modelo individual: 322\nJulio 2021. Grupo de entidades\, modelo agregado: 353\n\n\nHasta el 30 de agosto
URL:https://gestionempresarialjoma.es/fecha/hasta-el-30-de-agosto
END:VEVENT
END:VCALENDAR