BEGIN:VCALENDAR
VERSION:2.0
PRODID:-//Joma - ECPv5.3.2//NONSGML v1.0//EN
CALSCALE:GREGORIAN
METHOD:PUBLISH
X-WR-CALNAME:Joma
X-ORIGINAL-URL:https://gestionempresarialjoma.es
X-WR-CALDESC:Eventos para Joma
BEGIN:VTIMEZONE
TZID:UTC
BEGIN:STANDARD
TZOFFSETFROM:+0000
TZOFFSETTO:+0000
TZNAME:UTC
DTSTART:20200101T000000
END:STANDARD
END:VTIMEZONE
BEGIN:VEVENT
DTSTART;VALUE=DATE:20200625
DTEND;VALUE=DATE:20200626
DTSTAMP:20260421T043650
CREATED:20200531T121132Z
LAST-MODIFIED:20200621T195654Z
UID:1060-1593043200-1593129599@gestionempresarialjoma.es
SUMMARY:Calendario del Contribuyente.- Hasta el 25 de junio
DESCRIPTION:RENTA Y PATRIMONIO\nDeclaración anual Renta y Patrimonio 2019 con resultado a ingresar con domiciliación en cuenta: D-100\, D-714 \nCalendario del Contribuyente.- Hasta el 25 de junio
URL:https://gestionempresarialjoma.es/fecha/hasta-el-25-de-junio
END:VEVENT
END:VCALENDAR