BEGIN:VCALENDAR
VERSION:2.0
PRODID:-//Joma - ECPv5.3.2//NONSGML v1.0//EN
CALSCALE:GREGORIAN
METHOD:PUBLISH
X-WR-CALNAME:Joma
X-ORIGINAL-URL:https://gestionempresarialjoma.es
X-WR-CALDESC:Eventos para Joma
BEGIN:VTIMEZONE
TZID:UTC
BEGIN:STANDARD
TZOFFSETFROM:+0000
TZOFFSETTO:+0000
TZNAME:UTC
DTSTART:20220101T000000
END:STANDARD
END:VTIMEZONE
BEGIN:VEVENT
DTSTART;VALUE=DATE:20220420
DTEND;VALUE=DATE:20220421
DTSTAMP:20260420T233838
CREATED:20220328T181432Z
LAST-MODIFIED:20220328T181824Z
UID:1598-1650412800-1650499199@gestionempresarialjoma.es
SUMMARY:Hasta el 20 de abril
DESCRIPTION:RENTA Y SOCIEDADES\n\nRetenciones e ingresos a cuenta de rendimientos del trabajo\, actividades económicas\, premios y determinadas ganancias patrimoniales e imputaciones de renta\, ganancias derivadas de acciones y participaciones de las instituciones de inversión colectiva\, rentas de arrendamiento de inmuebles urbanos\, capital mobiliario\, personas autorizadas y saldos en cuentas.\n\nMarzo 2022. Grandes empresas: 111\, 115\, 117\, 123\, 124\, 126\, 128\, 216\, 230\nPrimer trimestre 2022: 111\, 115\, 117\, 123\, 124\, 126\, 128\, 136\, 210\, 216\n\n\nPagos fraccionados Renta\n\nPrimer trimestre 2022:\n\nEstimación directa: 130\nEstimación objetiva: 131\n\n\n\n\nPagos fraccionados sociedades y establecimientos permanentes de no residentes\n\nEjercicio en curso:\n\nRégimen general: 202\nRégimen de consolidación fiscal (grupos fiscales): 222\n\n\n\n\n\nIVA\n\nMarzo 2022. Declaración recapitulativa de operaciones intracomunitarias: 349\nPrimer trimestre 2022. Autoliquidación: 303\nPrimer trimestre 2022. Declaración-liquidación no periódica: 309\nPrimer trimestre 2022. Declaración recapitulativa de operaciones intracomunitarias: 349\nSolicitud de devolución del Recargo de Equivalencia y sujetos pasivos ocasionales: 308\nReintegro de compensaciones en el régimen especial de la agricultura\, ganadería y pesca: 341\nPrimer trimestre 2022. Operaciones asimiladas a las importaciones: 380\n\nIMPUESTO SOBRE LAS PRIMAS DE SEGUROS\n\nMarzo 2021: 430\n\nIMPUESTOS ESPECIALES DE FABRICACIÓN\n\nEnero 2022. Grandes empresas: 561\, 562\, 563\nMarzo 2022: 548\, 566\, 581\nPrimer trimestre 2022: 521\, 522\, 547\nPrimer trimestre 2022 Actividades V1\, F1 553 (establecimientos autorizados para la llevanza de la contabilidad en soporte papel)\nPrimer trimestre 2022. Solicitudes de devolución: 506\, 507\, 508\, 524\, 572\nDeclaración de operaciones por los destinatarios registrados\, representantes fiscales y receptores autorizados: 510\n\nIMPUESTO ESPECIAL SOBRE LA ELECTRICIDAD\n\nMarzo 2022. Grandes empresas: 560\nPrimer trimestre 2022. Excepto grandes empresas: 560\nAño 2021. Autoliquidación anual: 560\n\nIMPUESTOS MEDIOAMBIENTALES\n\nPrimer trimestre 2022. Pago fraccionado: 585\nAño 2021. Autoliquidación anual: 589\n\nIMPUESTO ESPECIAL SOBRE EL CARBÓN\n\nPrimer trimestre 2022: 595\n\nIMPUESTO SOBRE LAS TRANSACCIONES FINANCIERAS\n\nMarzo 2022: 604\n\nHasta el 20 de abril
URL:https://gestionempresarialjoma.es/fecha/hasta-el-20-de-abril
END:VEVENT
END:VCALENDAR