BEGIN:VCALENDAR
VERSION:2.0
PRODID:-//Joma - ECPv5.3.2//NONSGML v1.0//EN
CALSCALE:GREGORIAN
METHOD:PUBLISH
X-WR-CALNAME:Joma
X-ORIGINAL-URL:https://gestionempresarialjoma.es
X-WR-CALDESC:Eventos para Joma
BEGIN:VTIMEZONE
TZID:UTC
BEGIN:STANDARD
TZOFFSETFROM:+0000
TZOFFSETTO:+0000
TZNAME:UTC
DTSTART:20200101T000000
END:STANDARD
END:VTIMEZONE
BEGIN:VEVENT
DTSTART;VALUE=DATE:20200601
DTEND;VALUE=DATE:20200602
DTSTAMP:20260421T100409
CREATED:20200531T120040Z
LAST-MODIFIED:20200531T190740Z
UID:1054-1590969600-1591055999@gestionempresarialjoma.es
SUMMARY:Calendario del Contribuyente
DESCRIPTION:Este lunes 1 de junio concluyen el plazo para la presentación de: \nIVA \n\nAbril 2020. Autoliquidación: 303\nAbril 2020. Grupo de entidades\, modelo individual: 322\nAbril 2020. Grupo de entidades\, modelo agregado: 353\n\nDECLARACIÓN ANUAL DE CUENTAS FINANCIERAS EN EL ÁMBITO DE LA ASISTENCIA MUTUA \n\nAño 2019: 289\n\nDECLARACIÓN ANUAL DE CUENTAS FINANCIERAS DE DETERMINADAS PERSONAS ESTADOUNIDENSES \n\nAño 2019: 290\n\nCalendario del Contribuyente
URL:https://gestionempresarialjoma.es/fecha/hasta-el-1-de-junio
END:VEVENT
END:VCALENDAR