BEGIN:VCALENDAR
VERSION:2.0
PRODID:-//Joma - ECPv5.3.2//NONSGML v1.0//EN
CALSCALE:GREGORIAN
METHOD:PUBLISH
X-WR-CALNAME:Joma
X-ORIGINAL-URL:https://gestionempresarialjoma.es
X-WR-CALDESC:Eventos para Joma
BEGIN:VTIMEZONE
TZID:UTC
BEGIN:STANDARD
TZOFFSETFROM:+0000
TZOFFSETTO:+0000
TZNAME:UTC
DTSTART:20210101T000000
END:STANDARD
END:VTIMEZONE
BEGIN:VEVENT
DTSTART;VALUE=DATE:20210531
DTEND;VALUE=DATE:20210601
DTSTAMP:20260420T234239
CREATED:20210525T172932Z
LAST-MODIFIED:20210525T172932Z
UID:1396-1622419200-1622505599@gestionempresarialjoma.es
SUMMARY:Final mayo: calendario del Contribuyente
DESCRIPTION:Hasta el 31 de mayo\n\n\nIVA\n\nAbril 2021. Autoliquidación: 303\nAbril 2021. Grupo de entidades\, modelo individual: 322\nAbril 2021. Grupo de entidades\, modelo agregado: 353\n\nDECLARACIÓN ANUAL DE CUENTAS FINANCIERAS EN EL ÁMBITO DE LA ASISTENCIA MUTUA\n\nAño 2020: 289\n\nDECLARACIÓN ANUAL DE CUENTAS FINANCIERAS DE DETERMINADAS PERSONAS ESTADOUNIDENSES\n\nAño 2020: 290\n\n\nFinal mayo: calendario del Contribuyente
URL:https://gestionempresarialjoma.es/fecha/final-mayo-calendario-del-contribuyente
END:VEVENT
END:VCALENDAR