BEGIN:VCALENDAR
VERSION:2.0
PRODID:-//Joma - ECPv5.3.2//NONSGML v1.0//EN
CALSCALE:GREGORIAN
METHOD:PUBLISH
X-WR-CALNAME:Joma
X-ORIGINAL-URL:https://gestionempresarialjoma.es
X-WR-CALDESC:Eventos para Joma
BEGIN:VTIMEZONE
TZID:UTC
BEGIN:STANDARD
TZOFFSETFROM:+0000
TZOFFSETTO:+0000
TZNAME:UTC
DTSTART:20250101T000000
END:STANDARD
END:VTIMEZONE
BEGIN:VEVENT
DTSTART;VALUE=DATE:20250130
DTEND;VALUE=DATE:20250131
DTSTAMP:20260420T201442
CREATED:20250105T183726Z
LAST-MODIFIED:20250105T183902Z
UID:1875-1738195200-1738281599@gestionempresarialjoma.es
SUMMARY:Hasta el 30 de enero de 2025
DESCRIPTION:Pagos fraccionados Renta\n\nCuarto trimestre 2024:\n\nEstimación directa: 130\nEstimación objetiva: 131\n\n\n\nIVA\n\nDiciembre 2024. Autoliquidación: 303\nDiciembre 2024. Grupo de entidades\, modelo individual: 322\nDiciembre 2024. Declaración recapitulativa de operaciones intracomunitarias: 349\nDiciembre 2024. Grupo de entidades\, modelo agregado: 353\nDiciembre 2024 (o año 2024). Operaciones asimiladas a las importaciones: 380\nCuarto trimestre 2024. Autoliquidación: 303\nCuarto trimestre 2024. Declaración-liquidación no periódica: 309\nCuarto trimestre 2024. Declaración recapitulativa de operaciones intracomunitarias: 349\nCuarto trimestre 2024. Operaciones asimiladas a las importaciones: 380\nResumen anual 2024: 390\nSolicitud de devolución de cuotas reembolsadas a viajeros por empresarios en recargo de equivalencia: 308\nRegularización de las proporciones de tributación de los periodos de liquidación anteriores al inicio de la realización habitual de entregas de bienes o prestaciones de servicio: 318\nReintegro de compensaciones en el régimen especial de la agricultura\, ganadería y pesca: 341\nOpción o revocación de la aplicación de la prorrata especial para 2025 y siguientes\, si se inició la actividad en el último trimestre de 2024: 036/037\n\nImpuestos medioambientales\n\nCuarto trimestre 2024. Impuesto sobre el depósito de residuos en vertederos\, la incineración y la coincineración de residuos. Autoliquidación: 593\n\nHasta el 30 de enero de 2025
URL:https://gestionempresarialjoma.es/fecha/contribuyente-2025-hasta-30-enero
END:VEVENT
END:VCALENDAR