BEGIN:VCALENDAR
VERSION:2.0
PRODID:-//Joma - ECPv5.3.2//NONSGML v1.0//EN
CALSCALE:GREGORIAN
METHOD:PUBLISH
X-WR-CALNAME:Joma
X-ORIGINAL-URL:https://gestionempresarialjoma.es
X-WR-CALDESC:Eventos para Joma
BEGIN:VTIMEZONE
TZID:UTC
BEGIN:STANDARD
TZOFFSETFROM:+0000
TZOFFSETTO:+0000
TZNAME:UTC
DTSTART:20250101T000000
END:STANDARD
END:VTIMEZONE
BEGIN:VEVENT
DTSTART;VALUE=DATE:20250620
DTEND;VALUE=DATE:20250621
DTSTAMP:20260420T165911
CREATED:20250611T065105Z
LAST-MODIFIED:20250611T065507Z
UID:1918-1750377600-1750463999@gestionempresarialjoma.es
SUMMARY:Hasta el 20 de junio
DESCRIPTION:Renta y Sociedades\nRetenciones e ingresos a cuenta de rendimientos del trabajo\, actividades económicas\, premios y determinadas ganancias patrimoniales e imputaciones de renta\, ganancias derivadas de acciones y participaciones de las Instituciones de Inversión Colectiva\, rentas de arrendamiento de inmuebles urbanos\, capital mobiliario\, personas autorizadas y saldos en cuentas y\, de rentas de no residentes obtenidas sin establecimiento permanente. \n\nMayo 2025. Grandes empresas: 111\, 115\, 117\, 123\, 124\, 126\, 128\, 216\, 230\n\nIVA\n\nMayo 2025. Declaración recapitulativa de operaciones intracomunitarias: 349\nSolicitud de devolución por sujetos pasivos en el régimen simplificado del IVA y que ejerzan la actividad de transporte de viajeros o de mercancías por carretera\, por adquirir determinados medios de transporte: 308\n\nImpuesto sobre las Primas de Seguros\n\nMayo 2025: 430\n\nImpuestos Especiales de Fabricación\n\nMarzo 2025. Grandes empresas: 561\, 562\, 563\nMayo 2025: 548\, 566\, 581\nMayo 2025: 573 (Autoliquidación)\, A24 (Solicitud de devolución)\nDeclaración de operaciones por los destinatarios registrados y representantes fiscales: 510\n\nImpuesto Especial sobre la Electricidad\n\nMayo 2025. Grandes empresas: 560\n\nImpuestos Medioambientales\n\nMayo 2025. Impuesto especial sobre los envases de plástico no reutilizables. Autoliquidación: 592\n\n\nAño 2025. Impuesto sobre la producción de combustible nuclear gastado y residuos radiactivos resultantes de la generación de energía nucleoeléctrica. Primer pago fraccionado: 584\n\nImpuesto sobre las Transacciones Financieras\n\nMayo 2024: 604\n\nImpuesto sobre el margen de intereses y comisiones de determinadas entidades financieras\n\nPago fraccionado: 781\n\nHasta el 20 de junio
URL:https://gestionempresarialjoma.es/fecha/contribuyente-2025-hasta-20-junio
END:VEVENT
END:VCALENDAR