BEGIN:VCALENDAR
VERSION:2.0
PRODID:-//Joma - ECPv5.3.2//NONSGML v1.0//EN
CALSCALE:GREGORIAN
METHOD:PUBLISH
X-WR-CALNAME:Joma
X-ORIGINAL-URL:https://gestionempresarialjoma.es
X-WR-CALDESC:Eventos para Joma
BEGIN:VTIMEZONE
TZID:UTC
BEGIN:STANDARD
TZOFFSETFROM:+0000
TZOFFSETTO:+0000
TZNAME:UTC
DTSTART:20250101T000000
END:STANDARD
END:VTIMEZONE
BEGIN:VEVENT
DTSTART;VALUE=DATE:20250120
DTEND;VALUE=DATE:20250121
DTSTAMP:20260420T184708
CREATED:20250105T183356Z
LAST-MODIFIED:20250105T183948Z
UID:1872-1737331200-1737417599@gestionempresarialjoma.es
SUMMARY:Hasta el 20 de enero de 2025
DESCRIPTION:Renta y Sociedades\nRetenciones e ingresos a cuenta de rendimientos del trabajo\, actividades económicas\, premios y determinadas ganancias patrimoniales e imputaciones de renta\, ganancias derivadas de acciones y participaciones de las Instituciones de Inversión Colectiva\, rentas de arrendamiento de inmuebles urbanos\, capital mobiliario\, personas autorizadas y saldos en cuentas y\, de rentas de no residentes obtenidas sin establecimiento permanente. \n\nDiciembre 2024. Grandes empresas: 111\, 115\, 117\, 123\, 124\, 126\, 128\, 216\, 230\nCuarto trimestre 2024: 111\, 115\, 117\, 123\, 124\, 126\, 128\, 136\, 210\, 216\n\nIVA\n\nComunicación de incorporaciones en el mes de diciembre\, régimen especial del grupo de entidades: 039\nSolicitud de devolución por sujetos pasivos en el régimen simplificado del IVA y que ejerzan la actividad de transporte de viajeros o de mercancías por carretera\, por adquirir determinados medios de transporte: 308\n\nImpuesto sobre las Primas de Seguro\n\nDiciembre 2024: 430\n\nImpuestos Especiales de Fabricación\n\nOctubre 2024. Grandes empresas: 561\, 562\, 563\nDiciembre 2024: 548\, 566\, 581\nCuarto trimestre 2024: 521\, 522\, 547\nCuarto trimestre 2024. Actividades V1\, F1: 553 (establecimientos autorizados para la llevanza de la contabilidad en soporte papel)\nCuarto trimestre 2024. Solicitudes de devolución: 506\, 507\, 508\, 524\, 572\nDeclaración de operaciones por los destinatarios registrados y representantes fiscales: 510\n\nImpuesto Especial sobre la Electricidad\n\nDiciembre 2024. Grandes empresas: 560\nCuarto trimestre 2024. Excepto grandes empresas: 560\n\nImpuestos Medioambientales\n\nDiciembre 2024. Impuesto especial sobre los envases de plástico no reutilizables. Autoliquidación: 592\nCuarto trimestre 2024. Impuesto sobre los gases fluorados de efecto invernadero. Autoliquidación: 587. Solicitud de devolución: A23. Presentación contabilidad de existencias\nCuarto trimestre 2024. Impuesto especial sobre los envases de plástico no reutilizables. Autoliquidación: 592. Solicitud de devolución: A22\nAño 2024. Impuesto sobre la producción de combustible nuclear gastado y residuos radiactivos resultantes de la generación de energía nucleoeléctrica. Producción de residuos radioactivos. Autoliquidación: 584\nAño 2024. Impuesto sobre el almacenamiento de combustible nuclear gastado y residuos radiactivos en instalaciones centralizadas. Autoliquidación anual: 585\n\nImpuesto Especial sobre el Carbón\n\nCuarto trimestre 2024: 595\nAño 2024. Declaración anual de operaciones: 596\n\nImpuestos sobre las Transacciones Financieras\n\nDiciembre 2024: 604\n\nHasta el 20 de enero de 2025
URL:https://gestionempresarialjoma.es/fecha/contribuyente-2025-hasta-20-enero
END:VEVENT
END:VCALENDAR