BEGIN:VCALENDAR
VERSION:2.0
PRODID:-//Joma - ECPv5.3.2//NONSGML v1.0//EN
CALSCALE:GREGORIAN
METHOD:PUBLISH
X-WR-CALNAME:Joma
X-ORIGINAL-URL:https://gestionempresarialjoma.es
X-WR-CALDESC:Eventos para Joma
BEGIN:VTIMEZONE
TZID:UTC
BEGIN:STANDARD
TZOFFSETFROM:+0000
TZOFFSETTO:+0000
TZNAME:UTC
DTSTART:20240101T000000
END:STANDARD
END:VTIMEZONE
BEGIN:VEVENT
DTSTART;VALUE=DATE:20240430
DTEND;VALUE=DATE:20240501
DTSTAMP:20260420T183746
CREATED:20240326T110946Z
LAST-MODIFIED:20240326T111147Z
UID:1742-1714435200-1714521599@gestionempresarialjoma.es
SUMMARY:Hasta el 30 de abril
DESCRIPTION:IVA\n\nMarzo 2024. Autoliquidación: 303\nMarzo 2024. Grupo de entidades\, modelo individual: 322\nMarzo 2024. Grupo de entidades\, modelo agregado: 353\nMarzo 2024. Ventanilla única – Régimen de importación: 369\nMarzo 2024. Operaciones asimiladas a las importaciones: 380\nPrimer trimestre 2024: Ventanilla única – Regímenes exterior y de la Unión: 369\n\nNúmero de Identificación Fiscal\n\nPrimer trimestre 2024. Cuentas y operaciones cuyos titulares no han facilitado el NIF a las entidades de crédito: 195\n\nImpuesto sobre Determinados Servicios Digitales\n\nPrimer trimestre 2024: 490\n\nImpuestos Medioambientales\n\nMarzo 2024. Impuesto especial sobre los envases de plástico no reutilizables. Presentación contabilidad y libro registro de existencias\n\n\nPrimer trimestre 2024. Impuesto especial sobre los envases de plástico no reutilizables. Presentación contabilidad y libro registro de existencias\n\n\nPrimer trimestre 2024. Impuesto sobre el depósito de residuos en vertederos\, la incineración y la coincineración de residuos. Autoliquidación: 593\n\nDeclaración informativa de actualización de determinados mecanismos transfronterizos comercializables\n\nPrimer trimestre 2024: 235\n\nDeclaración informativa trimestral de operaciones de comercio de bienes corporales realizadas en la zona especial canaria sin que las mercancías transiten por territorio canario\n\nPrimer trimestre 2024: 281\n\nDeclaración informativa sobre pagos transfronterizos\n\nPrimer trimestre 2024: 379\n\nHasta el 30 de abril
URL:https://gestionempresarialjoma.es/fecha/contribuyente-2024-hasta-30-abril-2024
END:VEVENT
END:VCALENDAR