BEGIN:VCALENDAR
VERSION:2.0
PRODID:-//Joma - ECPv5.3.2//NONSGML v1.0//EN
CALSCALE:GREGORIAN
METHOD:PUBLISH
X-WR-CALNAME:Joma
X-ORIGINAL-URL:https://gestionempresarialjoma.es
X-WR-CALDESC:Eventos para Joma
BEGIN:VTIMEZONE
TZID:UTC
BEGIN:STANDARD
TZOFFSETFROM:+0000
TZOFFSETTO:+0000
TZNAME:UTC
DTSTART:20240101T000000
END:STANDARD
END:VTIMEZONE
BEGIN:VEVENT
DTSTART;VALUE=DATE:20240229
DTEND;VALUE=DATE:20240301
DTSTAMP:20260420T201928
CREATED:20240220T094020Z
LAST-MODIFIED:20240220T094233Z
UID:1715-1709164800-1709251199@gestionempresarialjoma.es
SUMMARY:Hasta el 29 de febrero de 2024
DESCRIPTION:IVA\n\nEnero 2024. Autoliquidación: 303\nEnero 2024. Grupo de entidades\, modelo individual: 322\nEnero 2024. Grupo de entidades\, modelo agregado: 353\nEnero 2024. Ventanilla única – Régimen de importación: 369\nEnero 2024. Operaciones asimiladas a las importaciones: 380\n\nImpuesto sobre Sociedades\n\nEntidades cuyo ejercicio coincida con el año natural: opción/renuncia a la opción para el cálculo de los pagos fraccionados sobre la parte de base imponible del período de los tres\, nueve u once meses de cada año natural: 036\nSi el período impositivo no coincide con el año natural\, la opción/renuncia por esta modalidad de pagos fraccionados se ejercerá\, en los primeros dos meses de cada periodo impositivo o entre el inicio de dicho periodo impositivo y el fin del plazo para efectuar el primer pago fraccionado\, si este plazo es inferior a dos meses: 036\n\nImpuestos Medioambientales\n\nEnero 2024. Impuesto especial sobre los envases de plástico no reutilizables. Presentación contabilidad y libro registro de existencias\n\nDeclaración anual de consumo de energía eléctrica\n\nAño 2023: 159\n\nDeclaración informativa anual de operaciones realizadas por empresarios o profesionales adheridos al sistema de gestión de cobros a través de tarjetas de crédito o débito\n\nAño 2023: 170\n\nDeclaración informativa anual de planes de ahorro a largo plazo\n\nAño 2023: 280\n\nDeclaración anual de operaciones con terceras personas\n\nAño 2023: 347\n\nAutoliquidación de la aportación a realizar por los prestadores del servicio de comunicación audiovisual televisivo y por los prestadores del servicio de intercambio de videos a través de plataforma de ámbito geodráfico estatal o superior al de una Comunidad Autónoma\n\nAño 2023: 792\n\nHasta el 29 de febrero de 2024
URL:https://gestionempresarialjoma.es/fecha/contribuyente-2024-hasta-29-febrero-2024
END:VEVENT
END:VCALENDAR