BEGIN:VCALENDAR
VERSION:2.0
PRODID:-//Joma - ECPv5.3.2//NONSGML v1.0//EN
CALSCALE:GREGORIAN
METHOD:PUBLISH
X-WR-CALNAME:Joma
X-ORIGINAL-URL:https://gestionempresarialjoma.es
X-WR-CALDESC:Eventos para Joma
BEGIN:VTIMEZONE
TZID:UTC
BEGIN:STANDARD
TZOFFSETFROM:+0000
TZOFFSETTO:+0000
TZNAME:UTC
DTSTART:20230101T000000
END:STANDARD
END:VTIMEZONE
BEGIN:VEVENT
DTSTART;VALUE=DATE:20231231
DTEND;VALUE=DATE:20240101
DTSTAMP:20260420T203158
CREATED:20231105T182611Z
LAST-MODIFIED:20231105T182727Z
UID:1686-1703980800-1704067199@gestionempresarialjoma.es
SUMMARY:Hasta el 31 de diciembre
DESCRIPTION:IVA\n\nNoviembre 2023. Ventanilla única – Régimen de importación: 369\n\nHasta el 31 de diciembre
URL:https://gestionempresarialjoma.es/fecha/contribuyente-2022-hasta-el-31-de-diciembre-copy-copy-copy-copy
END:VEVENT
END:VCALENDAR