BEGIN:VCALENDAR
VERSION:2.0
PRODID:-//Joma - ECPv5.3.2//NONSGML v1.0//EN
CALSCALE:GREGORIAN
METHOD:PUBLISH
X-WR-CALNAME:Joma
X-ORIGINAL-URL:https://gestionempresarialjoma.es
X-WR-CALDESC:Eventos para Joma
BEGIN:VTIMEZONE
TZID:UTC
BEGIN:STANDARD
TZOFFSETFROM:+0000
TZOFFSETTO:+0000
TZNAME:UTC
DTSTART:20230101T000000
END:STANDARD
END:VTIMEZONE
BEGIN:VEVENT
DTSTART;VALUE=DATE:20231130
DTEND;VALUE=DATE:20231201
DTSTAMP:20260420T220059
CREATED:20231105T182204Z
LAST-MODIFIED:20231105T182521Z
UID:1680-1701302400-1701388799@gestionempresarialjoma.es
SUMMARY:Hasta el 30 de noviembre
DESCRIPTION:IVA\n\nOctubre 2023. Autoliquidación: 303\nOctubre 2023. Grupo de entidades\, modelo individual: 322\nOctubre 2023. Grupo de entidades\, modelo agregado: 353\nOctubre 2023.Ventanilla única – Régimen de importación: 369\nOctubre 2023. Operaciones asimiladas a las importaciones: 380\nSolicitud de inscripción/baja. Registro de devolución mensual: 036\nSolicitud aplicación régimen de deducción común para sectores diferenciados para 2024: sin modelo\nSII. Renuncia a la llevanza electrónica de los libros registro: 036\n\nDeclaración informativa de operaciones vinculadas y de operaciones y situaciones relacionadas con países o territorios calificados como paraísos fiscales\n\nAño 2022: Entidades cuyo período impositivo coincida con el año natural: 232Resto de entidades: en el mes siguiente a los diez meses posteriores al fin del período impositivo.\n\nImpuestos Medioambientales\n\nAño 2022. Impuesto sobre el valor de la producción de la energía eléctrica. Autoliquidación y pago fraccionado: 583\nAño 2023: Impuesto sobre el valor de la producción de la energía eléctrica. Autoliquidación anual por cese de actividad de enero a octubre: 588\n\nHasta el 30 de noviembre
URL:https://gestionempresarialjoma.es/fecha/contribuyente-2022-hasta-el-30-de-diciembre-copy-copy
END:VEVENT
END:VCALENDAR