BEGIN:VCALENDAR
VERSION:2.0
PRODID:-//Joma - ECPv5.3.2//NONSGML v1.0//EN
CALSCALE:GREGORIAN
METHOD:PUBLISH
X-WR-CALNAME:Joma
X-ORIGINAL-URL:https://gestionempresarialjoma.es
X-WR-CALDESC:Eventos para Joma
BEGIN:VTIMEZONE
TZID:UTC
BEGIN:STANDARD
TZOFFSETFROM:+0000
TZOFFSETTO:+0000
TZNAME:UTC
DTSTART:20200101T000000
END:STANDARD
END:VTIMEZONE
BEGIN:VEVENT
DTSTART;VALUE=DATE:20200720
DTEND;VALUE=DATE:20200721
DTSTAMP:20260421T083004
CREATED:20200618T070304Z
LAST-MODIFIED:20200914T193630Z
UID:1217-1595203200-1595289599@gestionempresarialjoma.es
SUMMARY:Calendario del Contribuyente
DESCRIPTION:Hasta el 20 de julio\nRENTA Y SOCIEDADES\nRetenciones e ingresos a cuenta de rendimientos del trabajo\, actividades económicas\, premios y determinadas ganancias patrimoniales e imputaciones de renta\, ganancias derivadas de acciones y participaciones de las instituciones de inversión colectiva\, rentas de arrendamiento de inmuebles urbanos\, capital mobiliario\, personas autorizadas y saldos en cuentas. \n\nJunio 2020. Grandes empresas: 111\, 115\, 117\, 123\, 124\, 126\, 128\, 216\, 230\nSegundo trimestre 2020: 111\, 115\, 117\, 123\, 124\, 126\, 128\, 136\, 210\, 216\n\nPagos fraccionados Renta \n\nSegundo trimestre 2020: Estimación directa: 130 y Estimación objetiva: 131\n\nIMPUESTO DE VALOR AÑADIDO (IVA) \n\nJunio 2020. Declaración recapitulativa de operaciones intracomunitarias: 349\nJunio 2020. Operaciones asimiladas a las importaciones: 380\nSegundo trimestre 2020. Autoliquidación: 303\nSegundo trimestre 2020. Declaración-liquidación no periódica: 309\nSegundo trimestre 2020. Declaración recapitulativa de operaciones intracomunitarias: 349\nSegundo trimestre 2020. Servicios de telecomunicaciones\, de radiodifusión o de televisión y electrónicos en el Impuesto sobre el Valor Añadido.Autoliquidación: 368\nSegundo trimestre 2020. Operaciones asimiladas a las importaciones: 380\nSolicitud de devolución Recargo de Equivalencia y sujetos pasivos ocasionales: 308\nReintegro de compensaciones en el Régimen especial de la agricultura\, ganadería y pesca: 341\n\nIMPUESTO SOBRE LAS PRIMAS DE SEGUROS \n\nJunio 2020: 430\n\nIMPUESTOS ESPECIALES DE FABRICACIÓN \n\nAbril 2020: Grandes empresas: 553\, 554\, 555\, 556\, 557\, 558\nAbril 2020. Grandes empresas: 561\, 562\, 563\nJunio 2020: 548\, 566\, 581\nJunio 2020:570\, 580\nSegundo trimestre 2020: 521\, 522\, 547\nSegundo trimestre 2020: Actividades V1\, V2\, V7\, F1\, F2: 553\nSegundo trimestre 2020. Solicitudes de devolución: 506\, 507\, 508\, 524\, 572\nDeclaración de operaciones por los destinatarios registrados\, representantes fiscales y receptores autorizados: 510\n\n(1)Fábricas y Depósitos fiscales que hayan optado por suministrar los asientos contables correspondientes al primer semestre de 2020 a través de la Sede electrónica de la AEAT entre el 1 de julio y el 30 de septiembre de 2020. Para el modelo 553\, además\, establecimientos autorizados para la llevanza de la contabilidad en soporte papel. \nIMPUESTO ESPECIAL SOBRE LA ELECTRICIDAD \n\nJunio 2020. Grandes empresas: 560\nSegundo trimestre 2020. Excepto grandes empresas: 560\n\nIMPUESTOS MEDIOAMBIENTALES \n\nSegundo trimestre 2020. Pago fraccionado: 585\n\nIMPUESTO ESPECIAL SOBRE EL CARBÓN \n\nSegundo trimestre 2020: 595\n\nCalendario del Contribuyente
URL:https://gestionempresarialjoma.es/fecha/calendario-del-contribuyente
END:VEVENT
END:VCALENDAR