BEGIN:VCALENDAR
VERSION:2.0
PRODID:-//Joma - ECPv5.3.2//NONSGML v1.0//EN
CALSCALE:GREGORIAN
METHOD:PUBLISH
X-WR-CALNAME:Joma
X-ORIGINAL-URL:https://gestionempresarialjoma.es
X-WR-CALDESC:Eventos para Joma
BEGIN:VTIMEZONE
TZID:UTC
BEGIN:STANDARD
TZOFFSETFROM:+0000
TZOFFSETTO:+0000
TZNAME:UTC
DTSTART:20200101T000000
END:STANDARD
END:VTIMEZONE
BEGIN:VEVENT
DTSTART;VALUE=DATE:20201102
DTEND;VALUE=DATE:20201103
DTSTAMP:20260421T115820
CREATED:20200914T194041Z
LAST-MODIFIED:20200914T194041Z
UID:1255-1604275200-1604361599@gestionempresarialjoma.es
SUMMARY:Calendario del contribuyente
DESCRIPTION:Hasta el 2 de noviembre\n\n\nNÚMERO DE IDENTIFICACIÓN FISCAL\n\nTercer trimestre 2020. Cuentas y operaciones cuyos titulares no han facilitado el NIF a las entidades de crédito: 195\n\nDECLARACIÓN INFORMATIVA TRIMESTRAL DE LA CESIÓN DE USO DE VIVIENDAS CON FINES TURÍSTICOS\n\nTercer trimestre 2020: 179\n\nDECLARACIÓN INFORMATIVA DE ACTUALIZACIÓN DE DETERMINADOS MECANISMOS TRANSFRONTERIZOS COMERCIALIZABLES\n\nTercer trimestre 2020: 235\n\nCUENTA CORRIENTE TRIBUTARIA\n\nSolicitud de inclusión para el año 2021: CCT\nLa renuncia se deberá formular en el modelo de “solicitud de inclusión/comunicación de renuncia al sistema de cuenta corriente en materia tributaria”\n\n\nCalendario del contribuyente
URL:https://gestionempresarialjoma.es/fecha/calendario-del-contribuyente-9
END:VEVENT
END:VCALENDAR