BEGIN:VCALENDAR
VERSION:2.0
PRODID:-//Joma - ECPv5.3.2//NONSGML v1.0//EN
CALSCALE:GREGORIAN
METHOD:PUBLISH
X-WR-CALNAME:Joma
X-ORIGINAL-URL:https://gestionempresarialjoma.es
X-WR-CALDESC:Eventos para Joma
BEGIN:VTIMEZONE
TZID:UTC
BEGIN:STANDARD
TZOFFSETFROM:+0000
TZOFFSETTO:+0000
TZNAME:UTC
DTSTART:20200101T000000
END:STANDARD
END:VTIMEZONE
BEGIN:VEVENT
DTSTART;VALUE=DATE:20200731
DTEND;VALUE=DATE:20200801
DTSTAMP:20260421T133257
CREATED:20200618T072156Z
LAST-MODIFIED:20200618T072156Z
UID:1234-1596153600-1596239999@gestionempresarialjoma.es
SUMMARY:Calendario del contribuyente
DESCRIPTION:Hasta el 31 de julio \nNÚMERO DE IDENTIFICACIÓN FISCAL\nSegundo trimestre 2020. Cuentas y operaciones cuyos titulares no han facilitado el NIF a las entidades de crédito: 195 \nIMPUESTO SOBRE DEPÓSITOS EN LAS ENTIDADES DE CRÉDITO\nAutoliquidación 2019: 411\nPago a cuenta. Autoliquidación 2020: 410 \nDECLARACIÓN INFORMATIVA TRIMESTRAL DE LA CESIÓN DE USO DE VIVIENDAS CON FINES TURÍSTICOS\nSegundo trimestre 2020: 179 \nCalendario del contribuyente
URL:https://gestionempresarialjoma.es/fecha/calendario-del-contribuyente-4
END:VEVENT
END:VCALENDAR