BEGIN:VCALENDAR
VERSION:2.0
PRODID:-//Joma - ECPv5.3.2//NONSGML v1.0//EN
CALSCALE:GREGORIAN
METHOD:PUBLISH
X-WR-CALNAME:Joma
X-ORIGINAL-URL:https://gestionempresarialjoma.es
X-WR-CALDESC:Eventos para Joma
BEGIN:VTIMEZONE
TZID:UTC
BEGIN:STANDARD
TZOFFSETFROM:+0000
TZOFFSETTO:+0000
TZNAME:UTC
DTSTART:20200101T000000
END:STANDARD
END:VTIMEZONE
BEGIN:VEVENT
DTSTART;VALUE=DATE:20200730
DTEND;VALUE=DATE:20200731
DTSTAMP:20260421T113951
CREATED:20200618T072039Z
LAST-MODIFIED:20200618T072052Z
UID:1232-1596067200-1596153599@gestionempresarialjoma.es
SUMMARY:Calendario del Contribuyente
DESCRIPTION:Hasta el 30 de julio\nIVA\nJunio 2020: Autoliquidación: 303\nJunio 2020: Grupo de entidades. modelo individual: 322\nJunio 2020: Grupo de entidades\, modelo agregado: 353 \nCalendario del Contribuyente
URL:https://gestionempresarialjoma.es/fecha/calendario-del-contribuyente-3
END:VEVENT
END:VCALENDAR