BEGIN:VCALENDAR
VERSION:2.0
PRODID:-//Joma - ECPv5.3.2//NONSGML v1.0//EN
CALSCALE:GREGORIAN
METHOD:PUBLISH
X-WR-CALNAME:Joma
X-ORIGINAL-URL:https://gestionempresarialjoma.es
X-WR-CALDESC:Eventos para Joma
BEGIN:VTIMEZONE
TZID:UTC
BEGIN:STANDARD
TZOFFSETFROM:+0000
TZOFFSETTO:+0000
TZNAME:UTC
DTSTART:20210101T000000
END:STANDARD
END:VTIMEZONE
BEGIN:VEVENT
DTSTART;VALUE=DATE:20210630
DTEND;VALUE=DATE:20210701
DTSTAMP:20260420T220036
CREATED:20210201T182337Z
LAST-MODIFIED:20250611T070624Z
UID:1308-1625011200-1625097599@gestionempresarialjoma.es
SUMMARY:Hasta el 30 de junio
DESCRIPTION:Renta y Patrimonio\n\nDeclaración anual Renta y Patrimonio 2024 con resultado a devolver\, renuncia a la devolución\, negativo y a ingresar sin domiciliación del primer plazo: D-100\, D-714\nDeclaración anual de Renta del régimen especial de tributación para trabajadores\, profesionales\, emprendedores e inversores desplazados a territorio español 2024: 151\n\nIVA\n\nMayo 2025: Autoliquidación: 303\nMayo 2025: Grupo de entidades\, modelo individual: 322\nMayo 2025: Grupo de entidades\, modelo agregado: 353\nMayo 2025. Ventanilla única – Régimen de importación: 369\nMayo 2025. Operaciones asimiladas a las importaciones: 380\nCuarto trimestre 2024: solicitud de reembolso de las cuotas tributarias soportadas relativas a la Organización del Tratado del Atlántico Norte\, a los Cuarteles Generales Internacionales de dicha Organización y a los Estados parte en dicho Tratado: 364\nCuarto trimestre 2024: solicitud de reembolso de las cuotas tributarias soportadas por las fuerzas armadas de los Estados miembros de la UE: 381\n\nImpuestos Medioambientales\n\nMayo 2025. Impuesto especial sobre los envases de plástico no reutilizables. Presentación contabilidad y libro registro de existencias\n\nDeclaración informativa anual de ayudas recibidas en el marco del régimen económico y fiscal de Canarias y otras ayudas de estado por contribuyentes del Impuesto sobre la Renta de las Personas Físicas o el Impuesto sobre la Renta de no Residentes sin establecimiento permanente\n\nAño 2024: 282\n\nDeclaración informativa anual de ayudas recibidas en el marco del Régimen fiscal especial de las Illes Balears por contribuyentes del Impuesto sobre la Renta de las Personas Físicas o el Impuesto sobre la Renta de no Residentes sin establecimiento permanente\n\nAño 2024: 283\n\nHasta el 30 de junio
URL:https://gestionempresarialjoma.es/fecha/calendario-del-contribuyente-2025-hasta-30-junio
END:VEVENT
END:VCALENDAR