BEGIN:VCALENDAR
VERSION:2.0
PRODID:-//Joma - ECPv5.3.2//NONSGML v1.0//EN
CALSCALE:GREGORIAN
METHOD:PUBLISH
X-WR-CALNAME:Joma
X-ORIGINAL-URL:https://gestionempresarialjoma.es
X-WR-CALDESC:Eventos para Joma
BEGIN:VTIMEZONE
TZID:UTC
BEGIN:STANDARD
TZOFFSETFROM:+0000
TZOFFSETTO:+0000
TZNAME:UTC
DTSTART:20200101T000000
END:STANDARD
END:VTIMEZONE
BEGIN:VEVENT
DTSTART;VALUE=DATE:20200727
DTEND;VALUE=DATE:20200728
DTSTAMP:20260421T101114
CREATED:20200618T072006Z
LAST-MODIFIED:20200618T072006Z
UID:1229-1595808000-1595894399@gestionempresarialjoma.es
SUMMARY:Calendario del Contribuyente
DESCRIPTION:Hasta el 27 de julio\nIMPUESTO SOBRE SOCIEDADES E IMPUESTO SOBRE LA RENTA DE NO RESIDENTES (ESTABLECIMIENTOS PERMANENTES Y ENTIDADES EN ATRIBUCIÓN DE RENTAS CONSTITUIDAS EN EL EXTRANJERO CON PRESENCIA EN TERRITORIO ESPAÑOL)\nDeclaración anual 2019. Entidades cuyo período impositivo coincida con el año natural: 200\, 206\, 220 y 221 \nResto de entidades: en los 25 días naturales siguientes a los seis meses posteriores al fin del período impositivo. \nDECLARACIÓN INFORMATIVA ANUAL DE AYUDAS RECIBIDAS EN EL MARCO DEL REF DE CANARIAS Y OTRAS AYUDAS DE ESTADO POR CONTRIBUYENTES DEL IMPUESTO SOBRE SOCIEDADES E IMPUESTO SOBRE LA RENTA DE NO RESIDENTES (ESTABLECIMIENTOS PERMANENTES Y ENTIDADES EN ATRIBUCIÓN DE RENTAS CONSTITUIDAS EN EL EXTRANJERO CON PRESENCIA EN TERRITORIO ESPAÑOL)\nAño 2019. Entidades cuyo período impositivo coincida con el año natural: 282 \nResto de entidades: en los 25 días naturales siguientes a los seis meses posteriores al fin del período impositivo. \nCalendario del Contribuyente
URL:https://gestionempresarialjoma.es/fecha/calendario-del-contribuyente-2
END:VEVENT
END:VCALENDAR