BEGIN:VCALENDAR
VERSION:2.0
PRODID:-//Joma - ECPv5.3.2//NONSGML v1.0//EN
CALSCALE:GREGORIAN
METHOD:PUBLISH
X-WR-CALNAME:Joma
X-ORIGINAL-URL:https://gestionempresarialjoma.es
X-WR-CALDESC:Eventos para Joma
BEGIN:VTIMEZONE
TZID:UTC
BEGIN:STANDARD
TZOFFSETFROM:+0000
TZOFFSETTO:+0000
TZNAME:UTC
DTSTART:20200101T000000
END:STANDARD
END:VTIMEZONE
BEGIN:VEVENT
DTSTART;VALUE=DATE:20201231
DTEND;VALUE=DATE:20210101
DTSTAMP:20260421T012324
CREATED:20200914T194513Z
LAST-MODIFIED:20210201T180916Z
UID:1268-1609372800-1609459199@gestionempresarialjoma.es
SUMMARY:Calendario del contribuyente
DESCRIPTION:Hasta el 31 de diciembre\n\n\nRENTA\n\nRenuncia o revocación estimación directa simplificada y estimación objetiva para 2021 y sucesivos: 036/037\n\nIVA\n\nRenuncia o revocación regímenes simplificado y agricultura\, ganadería y pesca para 2021 y sucesivos: 036/037\nOpción o revocación por la determinación de la base imponible mediante el margen de beneficio global en el régimen especial de los bienes usados\, objetos de arte\, antigüedades y objetos de colección para 2021 y sucesivos: 036\nOpción tributación en destino ventas a distancia a otros países de la Unión Europea para 2021 y 2022: 036\nRenuncia régimen de deducción común para sectores diferenciados para 2021: sin modelo\nComunicación de alta en el régimen especial del grupo de entidades: 039\nOpción o renuncia por la modalidad avanzada del régimen especial del grupo de entidades: 039\nComunicación anual relativa al régimen especial del grupo de entidades: 039\nOpción por el régimen especial del criterio de caja para 2021: 036/037\nRenuncia al régimen especial del criterio de caja para 2021\, 2022 y 2023: 036/037\n\n\nCalendario del contribuyente
URL:https://gestionempresarialjoma.es/fecha/calendario-del-contribuyente-15
END:VEVENT
END:VCALENDAR