BEGIN:VCALENDAR
VERSION:2.0
PRODID:-//Joma - ECPv5.3.2//NONSGML v1.0//EN
CALSCALE:GREGORIAN
METHOD:PUBLISH
X-WR-CALNAME:Joma
X-ORIGINAL-URL:https://gestionempresarialjoma.es
X-WR-CALDESC:Eventos para Joma
BEGIN:VTIMEZONE
TZID:UTC
BEGIN:STANDARD
TZOFFSETFROM:+0000
TZOFFSETTO:+0000
TZNAME:UTC
DTSTART:20210101T000000
END:STANDARD
END:VTIMEZONE
BEGIN:VEVENT
DTSTART;VALUE=DATE:20210301
DTEND;VALUE=DATE:20210302
DTSTAMP:20260421T065236
CREATED:20210201T181703Z
LAST-MODIFIED:20210201T182102Z
UID:1300-1614556800-1614643199@gestionempresarialjoma.es
SUMMARY:Marzo: calendario del contribuyente
DESCRIPTION:Hasta el 1 de marzo\n\n\nIVA\n\nEnero 2021. Autoliquidación: 303\nEnero 2021. Grupo de entidades\, modelo individual: 322\nEnero 2021. Grupo de entidades\, modelo agregado: 353\n\nIMPUESTO SOBRE SOCIEDADES\n\nEntidades cuyo ejercicio coincida con el año natural: opción/renuncia a la opción para el cálculo de los pagos fraccionados sobre la parte de base imponible del período de los tres\, nueve u once meses de cada año natural: 036\nSi el período impositivo no coincide con el año natural\, la opción/renuncia por esta modalidad de pagos fraccionados se ejercerá\, en los primeros dos meses de cada periodo impositivo o entre el inicio de dicho periodo impositivo y el fin del plazo para efectuar el primer pago fraccionado\, si este plazo es inferior a dos meses: 036\n\nDECLARACIÓN ANUAL DE CONSUMO DE ENERGÍA ELÉCTRICA\n\nAño 2020: 159\n\nDECLARACIÓN INFORMATIVA ANUAL DE OPERACIONES REALIZADAS POR EMPRESARIOS O PROFESIONALES ADHERIDOS AL SISTEMA DE GESTIÓN DE COBROS A TRAVÉS DE TARJETAS DE CRÉDITO O DÉBITO\n\nAño 2020: 170\n\nDECLARACIÓN INFORMATIVA ANUAL DE PLANES DE AHORRO A LARGO PLAZO\n\nAño 2020: 280\n\nDECLARACIÓN ANUAL DE OPERACIONES CON TERCEROS\n\nAño 2020: 347\n\n\n\n\nMarzo: calendario del contribuyente
URL:https://gestionempresarialjoma.es/fecha/calendario-del-contribuyente-15-copy-copy-copy
END:VEVENT
END:VCALENDAR