BEGIN:VCALENDAR
VERSION:2.0
PRODID:-//Joma - ECPv5.3.2//NONSGML v1.0//EN
CALSCALE:GREGORIAN
METHOD:PUBLISH
X-WR-CALNAME:Joma
X-ORIGINAL-URL:https://gestionempresarialjoma.es
X-WR-CALDESC:Eventos para Joma
BEGIN:VTIMEZONE
TZID:UTC
BEGIN:STANDARD
TZOFFSETFROM:+0000
TZOFFSETTO:+0000
TZNAME:UTC
DTSTART:20210101T000000
END:STANDARD
END:VTIMEZONE
BEGIN:VEVENT
DTSTART;VALUE=DATE:20210430
DTEND;VALUE=DATE:20210501
DTSTAMP:20260421T044019
CREATED:20210201T182818Z
LAST-MODIFIED:20210201T182852Z
UID:1314-1619740800-1619827199@gestionempresarialjoma.es
SUMMARY:Abril: calendario del contribuyente
DESCRIPTION:Hasta el 30 de abril\n\n\nIVA\n\nMarzo 2021. Autoliquidación: 303\nMarzo 2021. Grupo de entidades\, modelo individual: 322\nMarzo 2021. Grupo de entidades\, modelo agregado: 353\n\nDECLARACIÓN INFORMATIVA TRIMESTRAL DE LA CESIÓN DE USO DE VIVIENDAS CON FINES TURÍSTICOS\n\nPrimer trimestre 2021: 179\n\nNÚMERO DE IDENTIFICACIÓN FISCAL\n\nPrimer trimestre 2021. Cuentas y operaciones cuyos titulares no han facilitado el NIF a las entidades de crédito: 195\n\n\nAbril: calendario del contribuyente
URL:https://gestionempresarialjoma.es/fecha/calendario-del-contribuyente-15-copy-copy-copy-copy-copy-copy-3-copy
END:VEVENT
END:VCALENDAR