BEGIN:VCALENDAR
VERSION:2.0
PRODID:-//Joma - ECPv5.3.2//NONSGML v1.0//EN
CALSCALE:GREGORIAN
METHOD:PUBLISH
X-WR-CALNAME:Joma
X-ORIGINAL-URL:https://gestionempresarialjoma.es
X-WR-CALDESC:Eventos para Joma
BEGIN:VTIMEZONE
TZID:UTC
BEGIN:STANDARD
TZOFFSETFROM:+0000
TZOFFSETTO:+0000
TZNAME:UTC
DTSTART:20210101T000000
END:STANDARD
END:VTIMEZONE
BEGIN:VEVENT
DTSTART;VALUE=DATE:20210407
DTEND;VALUE=DATE:20210408
DTSTAMP:20260421T065209
CREATED:20210201T182451Z
LAST-MODIFIED:20210201T182539Z
UID:1310-1617753600-1617839999@gestionempresarialjoma.es
SUMMARY:Empieza campaña Renta
DESCRIPTION:Desde el 7 de abril hasta el 30 de junio\n\n\nRENTA Y PATRIMONIO\n\nPresentación por Internet de las declaraciones de Renta 2020 y Patrimonio 2020\n\nCon resultado a ingresar con domiciliación en cuenta\, hasta el 25 de junio \n\n\n\nEmpieza campaña Renta
URL:https://gestionempresarialjoma.es/fecha/calendario-del-contribuyente-15-copy-copy-copy-copy-copy-copy-2
END:VEVENT
END:VCALENDAR