BEGIN:VCALENDAR
VERSION:2.0
PRODID:-//Joma - ECPv5.3.2//NONSGML v1.0//EN
CALSCALE:GREGORIAN
METHOD:PUBLISH
X-WR-CALNAME:Joma
X-ORIGINAL-URL:https://gestionempresarialjoma.es
X-WR-CALDESC:Eventos para Joma
BEGIN:VTIMEZONE
TZID:UTC
BEGIN:STANDARD
TZOFFSETFROM:+0000
TZOFFSETTO:+0000
TZNAME:UTC
DTSTART:20200101T000000
END:STANDARD
END:VTIMEZONE
BEGIN:VEVENT
DTSTART;VALUE=DATE:20201230
DTEND;VALUE=DATE:20201231
DTSTAMP:20260421T031318
CREATED:20200914T194434Z
LAST-MODIFIED:20200914T194434Z
UID:1266-1609286400-1609372799@gestionempresarialjoma.es
SUMMARY:Calendario del contribuyente
DESCRIPTION:Hasta el 30 de diciembre\n\n\nIVA\n\nNoviembre 2020. Autoliquidación: 303\nNoviembre 2020. Grupo de entidades\, modelo individual: 322\nNoviembre 2020. Grupo de entidades\, modelo agregado: 353\n\n\nCalendario del contribuyente
URL:https://gestionempresarialjoma.es/fecha/calendario-del-contribuyente-14
END:VEVENT
END:VCALENDAR