BEGIN:VCALENDAR
VERSION:2.0
PRODID:-//Joma - ECPv5.3.2//NONSGML v1.0//EN
CALSCALE:GREGORIAN
METHOD:PUBLISH
X-WR-CALNAME:Joma
X-ORIGINAL-URL:https://gestionempresarialjoma.es
X-WR-CALDESC:Eventos para Joma
BEGIN:VTIMEZONE
TZID:UTC
BEGIN:STANDARD
TZOFFSETFROM:+0000
TZOFFSETTO:+0000
TZNAME:UTC
DTSTART:20200101T000000
END:STANDARD
END:VTIMEZONE
BEGIN:VEVENT
DTSTART;VALUE=DATE:20201105
DTEND;VALUE=DATE:20201106
DTSTAMP:20260421T101718
CREATED:20200914T194126Z
LAST-MODIFIED:20200914T194126Z
UID:1257-1604534400-1604620799@gestionempresarialjoma.es
SUMMARY:Calendario del contribuyente
DESCRIPTION:Hasta el 5 de noviembre\n\n\nRENTA\n\nIngreso del segundo plazo de la declaración anual de 2019\, si se fraccionó el pago: 102\n\n\nCalendario del contribuyente
URL:https://gestionempresarialjoma.es/fecha/calendario-del-contribuyente-10
END:VEVENT
END:VCALENDAR