BEGIN:VCALENDAR
VERSION:2.0
PRODID:-//Joma - ECPv5.3.2//NONSGML v1.0//EN
CALSCALE:GREGORIAN
METHOD:PUBLISH
X-WR-CALNAME:Joma
X-ORIGINAL-URL:https://gestionempresarialjoma.es
X-WR-CALDESC:Eventos para Joma
BEGIN:VTIMEZONE
TZID:UTC
BEGIN:STANDARD
TZOFFSETFROM:+0000
TZOFFSETTO:+0000
TZNAME:UTC
DTSTART:20260101T000000
END:STANDARD
END:VTIMEZONE
BEGIN:VEVENT
DTSTART;VALUE=DATE:20260302
DTEND;VALUE=DATE:20260303
DTSTAMP:20260420T150251
CREATED:20250927T160734Z
LAST-MODIFIED:20260302T111319Z
UID:1975-1772409600-1772495999@gestionempresarialjoma.es
SUMMARY:Hasta el 2 de marzo
DESCRIPTION:IVA\n\nEnero 2026. Autoliquidación: 303\nEnero 2026. Grupo de entidades\, modelo individual: 322\nEnero 2026. Grupo de entidades\, modelo agregado: 353\nEnero 2026. Operaciones asimiladas a las importaciones: 380\n\nImpuesto sobre Sociedades\n\nEntidades cuyo ejercicio coincida con el año natural: opción/renuncia a la opción para el cálculo de los pagos fraccionados sobre la parte de base imponible del período de los tres\, nueve u once meses de cada año natural: 036\nSi el período impositivo no coincide con el año natural\, la opción/renuncia por esta modalidad de pagos fraccionados se ejercerá\, en los primeros dos meses de cada periodo impositivo o entre el inicio de dicho periodo impositivo y el fin del plazo para efectuar el primer pago fraccionado\, si este plazo es inferior a dos meses: 036\n\nImpuestos Medioambientales\n\nEnero 2026. Impuesto especial sobre los envases de plástico no reutilizables. Presentación contabilidad y libro registro de existencias\n\nDeclaración anual de consumo de energía eléctrica\n\nAño 2025: 159\n\nDeclaración informativa anual de operaciones realizadas por empresarios o profesionales adheridos al sistema de gestión de cobros a través de tarjetas de crédito o débito\n\nAño 2025: 170\n\nDeclaración informativa mensual de las operaciones realizadas por los empresarios o profesionales adheridos al sistema de gestión de cobros a través de cualquier tipo de tarjetas y mediante pagos asociados a números de teléfono móvil\n\nEnero 2026: 170\n\nDeclaración informativa mensual de cuentas en toda clase de instituciones financieras y resumen anual de retenciones e ingresos a cuenta sobre rendimientos del capital mobiliario y rentas obtenidas por la contraprestación derivada de cuentas en toda clase de instituciones financieras\n\nEnero 2026: 196\n\nDeclaración informativa anual de planes de ahorro a largo plazo\n\nAño 2025: 280\n\nDeclaración anual de operaciones con terceras personas\n\nAño 2025: 347\n\nAutoliquidación de la aportación a realizar por los prestadores del servicio de comunicación audiovisual televisivo y por los prestadores del servicio de intercambio de videos a través de plataforma de ámbito geográfico estatal o superior al de una Comunidad Autónoma\n\nAño 2025: 792\n\nHasta el 2 de marzo
URL:https://gestionempresarialjoma.es/fecha/calendario-contribuyente-2026-hasta-dos-marzo
CATEGORIES:Asesoría fiscal
END:VEVENT
END:VCALENDAR