BEGIN:VCALENDAR
VERSION:2.0
PRODID:-//Joma - ECPv5.3.2//NONSGML v1.0//EN
CALSCALE:GREGORIAN
METHOD:PUBLISH
X-WR-CALNAME:Joma
X-ORIGINAL-URL:https://gestionempresarialjoma.es
X-WR-CALDESC:Eventos para Joma
BEGIN:VTIMEZONE
TZID:UTC
BEGIN:STANDARD
TZOFFSETFROM:+0000
TZOFFSETTO:+0000
TZNAME:UTC
DTSTART:20250101T000000
END:STANDARD
END:VTIMEZONE
BEGIN:VEVENT
DTSTART;VALUE=DATE:20251020
DTEND;VALUE=DATE:20251021
DTSTAMP:20260420T164516
CREATED:20250927T160122Z
LAST-MODIFIED:20250927T160421Z
UID:1971-1760918400-1761004799@gestionempresarialjoma.es
SUMMARY:Hasta el 20 de octubre
DESCRIPTION:I\nRenta y Sociedades\nRetenciones e ingresos a cuenta de rendimientos del trabajo\, actividades económicas\, premios y determinadas ganancias patrimoniales e imputaciones de renta\, ganancias derivadas de acciones y participaciones de las Instituciones de Inversión Colectiva\, rentas de arrendamiento de inmuebles urbanos\, capital mobiliario\, personas autorizadas y saldos en cuentas y\, de rentas de no residentes obtenidas sin establecimiento permanente. \n\nSeptiembre 2025. Grandes empresas: 111\, 115\, 117\, 123\, 124\, 126\, 128\, 216\, 230\nTercer trimestre 2025: 111\, 115\, 117\, 123\, 124\, 126\, 128\, 136\, 210\, 216\n\nPagos fraccionados Renta\n\nTercer trimestre 2025:\n\nEstimación directa: 130\nEstimación objetiva: 131\n\n\n\nPagos fraccionados Sociedades y Establecimientos Permanentes de no Residentes\n\nEjercicio en curso:\n\nRégimen general: 202\nRégimen de consolidación fiscal (grupos fiscales): 222\n\n\n\nIVA\n\nSeptiembre 2025. Declaración recapitulativa de operaciones intracomunitarias: 349\nTercer trimestre 2025. Autoliquidación: 303\nTercer trimestre 2025. Declaración-liquidación no periódica: 309\nTercer trimestre 2025. Declaración recapitulativa de operaciones intracomunitarias: 349\nTercer trimestre 2025. Operaciones asimiladas a las importaciones: 380\nSolicitud de devolución de cuotas reembolsadas a viajeros por empresarios en recargo de equivalencia: 308\nSolicitud de devolución por sujetos pasivos en el régimen simplificado del IVA y que ejerzan la actividad de transporte de viajeros o de mercancías por carretera\, por adquirir determinados medios de transporte: 308\nReintegro de compensaciones en el régimen especial de la agricultura\, ganadería y pesca: 341\n\nImpuesto sobre las Primas de Seguros\n\nSeptiembre 2025: 430\n\nImpuestos Especiales de Fabricación\n\nJulio 2025. Grandes empresas: 561\, 562\, 563\nSeptiembre 2025: 548\, 566\, 581\nSeptiembre 2025: 573 (Autoliquidación)\, A24 (Solicitud de devolución)\nTercer trimestre 2025: 521\, 522\, 547\nTercer trimestre 2025. Actividades V1\, F1: 553 (establecimientos autorizados para la llevanza de la contabilidad en soporte papel)\nTercer trimestre 2025. Solicitudes de devolución: 506\, 507\, 508\, 524\, 572\nDeclaración de operaciones por los destinatarios registrados y representantes fiscales: 510\n\nImpuesto Especial sobre la Electricidad\n\nSeptiembre 2025. Grandes empresas: 560\nTercer trimestre 2025. Excepto grandes empresas: 560\n\nImpuestos Medioambientales\n\nSeptiembre 2025. Impuesto especial sobre los envases de plástico no reutilizables. Autoliquidación: 592\nTercer trimestre 2025. Impuesto sobre los gases fluorados de efecto invernadero. Autoliquidación: 587. Solicitud de devolución: A23. Presentación contabilidad de existencias\nTercer trimestre 2025. Impuesto especial sobre los envases de plástico no reutilizables. Autoliquidación: 592. Solicitud de devolución: A22\nAño 2025. Impuesto sobre el almacenamiento de combustible nuclear gastado y residuos radiactivos en instalaciones centralizadas. Tercer pago fraccionado: 585\nAño 2025. Impuesto sobre el Valor de la Extracción de Gas\, Petróleo y Condensados. Pago fraccionado: 589\n\nImpuesto Especial sobre el Carbón\n\nTercer trimestre 2025: 595\n\nImpuesto sobre las Transacciones Financieras\n\nSeptiembre 2025: 604\n\nAportación a realizar por los prestadores del servicio de comunicación audiovisual televisivo y por los prestadores del servicio de intercambio de vídeos a través de plataforma de ámbito geográfico estatal o superior al de una Comunidad Autónoma\n\nPago a cuenta 3P 2025: 793\n\nHasta el 20 de octubre
URL:https://gestionempresarialjoma.es/fecha/calendario-contribuyente-2025-hasta-20-octubre
CATEGORIES:Asesoría fiscal
END:VEVENT
END:VCALENDAR