BEGIN:VCALENDAR
VERSION:2.0
PRODID:-//Joma - ECPv5.3.2//NONSGML v1.0//EN
CALSCALE:GREGORIAN
METHOD:PUBLISH
X-WR-CALNAME:Joma
X-ORIGINAL-URL:https://gestionempresarialjoma.es
X-WR-CALDESC:Eventos para Joma
BEGIN:VTIMEZONE
TZID:UTC
BEGIN:STANDARD
TZOFFSETFROM:+0000
TZOFFSETTO:+0000
TZNAME:UTC
DTSTART:20240101T000000
END:STANDARD
END:VTIMEZONE
BEGIN:VEVENT
DTSTART;VALUE=DATE:20240130
DTEND;VALUE=DATE:20240131
DTSTAMP:20260420T201950
CREATED:20240117T092902Z
LAST-MODIFIED:20240117T093940Z
UID:1703-1706572800-1706659199@gestionempresarialjoma.es
SUMMARY:Hasta el 30 de enero de 2024
DESCRIPTION:Pagos fraccionados Renta\n\nCuarto trimestre 2023:\n\nEstimación directa: 130\nEstimación objetiva: 131\n\n\n\nIVA\n\nDiciembre 2023. Autoliquidación: 303\nDiciembre 2023. Grupo de entidades\, modelo individual: 322\nDiciembre 2023. Declaración recapitulativa de operaciones intracomunitarias: 349\nDiciembre 2023. Grupo de entidades\, modelo agregado: 353\nDiciembre 2023 (o año 2023). Operaciones asimiladas a las importaciones: 380\nCuarto trimestre 2023. Autoliquidación: 303\nCuarto trimestre 2023. Declaración-liquidación no periódica: 309\nCuarto trimestre 2023. Declaración recapitulativa de operaciones intracomunitarias: 349\nCuarto trimestre 2023. Operaciones asimiladas a las importaciones: 380\nResumen anual 2023: 390\nSolicitud de devolución de cuotas reembolsadas a viajeros por empresarios en recargo de equivalencia: 308\nRegularización de las proporciones de tributación de los periodos de liquidación anteriores al inicio de la realización habitual de entregas de bienes o prestaciones de servicio: 318\nReintegro de compensaciones en el régimen especial de la agricultura\, ganadería y pesca: 341\nOpción o revocación de la aplicación de la prorrata especial para 2024 y siguientes\, si se inició la actividad en el último trimestre de 2023: 036/037\n\nImpuestos medioambientales\n\nCuarto trimestre 2023. Impuesto sobre el depósito de residuos en vertederos\, la incineración y la coincineración de residuos. Autoliquidación: 593\n\nHasta el 30 de enero de 2024
URL:https://gestionempresarialjoma.es/fecha/calendario-contribuyente-2024-hasta-30-enero
END:VEVENT
END:VCALENDAR